{"text_format":"1","workbook":"xlsx","n_sheets":2,"sheets":["MainSheet","DataSheet"],"not_rendered":{"charts":2,"images":1,"macros":1,"external_links":1,"defined_names":5,"comments":1,"pivot_tables":0},"unopened":[],"bounds":{"document_bytes":16777216,"sheet_cells":100000,"rows_first":2000,"rows_last":500,"rows_between":2000,"halvings":0,"cell_chars":16384,"cell_head_chars":4096},"cells_cut":0,"cells_raw":0,"read":"whole","date_system":"1900"}

{"sheet":"MainSheet","index":0,"n_rows":16,"n_cols":11,"rows_kept":16,"cut":false,"hidden":false,"merged":[[0,1,0,7]]}
["2010-08-02","Ocean Thermal Energy Conversion (OTEC) System"]
[null,null,null,null,null,null,null,null,null,null,"Given"]
[null,null,null,null,null,null,null,null,null,null,"PropsSI"]
[null,null,null,null,null,null,null,null,null,null,"Rankine"]
["Fluid = ","ammonia",null,"etaturb = ",0.8,null,"mdot = ",1000,"[kg/s]",null,"Periodic"]
["Units = ","SI_C",null,"etapump = ",0.8,null,null,null,null,null,"Answer"]
[]
[null,"State","T [oC]","x","P [kPa]","h [kJ/kg]","s [kJ/kg·K]","v [m3/kg]"]
[null,1]
[null,"2s"]
[null,2]
[null,3]
[null,"4s"]
[null,4]
[null,"4a"]
[null,1]

{"sheet":"DataSheet","index":1,"n_rows":156,"n_cols":11,"rows_kept":156,"cut":false,"hidden":false,"merged":[[1,2,1,3],[1,4,1,5],[1,9,1,10],[1,6,1,7]]}
["This data table is set up to update if you change the \"fluid\" parameter on the main sheet."]
[null,null,"s [kJ/kgK]",null,"ρ [kg/m3]",null,"v[m3/kg]",null,null,"kJ/kg"]
[null,"Temp. [C]","x = 0","x = 1","ρliquid","ρgas","vliquid","vgas","P [kPa]","uliq","ugas"]
[null,-50,{"$f":"[1]!PropsSI(\"S\",\"T\",$B4+273.15,\"Q\",0,Fluid)/1000","v":0.56608633338998127},{"$f":"[1]!PropsSI(\"S\",\"T\",$B4+273.15,\"Q\",1,Fluid)/1000","v":6.9112074932978764},{"$f":"[1]!PropsSI(\"D\",\"T\",$B4+273.15,\"Q\",0,Fluid)","v":702.08625739685158},{"$f":"[1]!PropsSI(\"D\",\"T\",$B4+273.15,\"Q\",1,Fluid)","v":0.38055377284327863},{"$f":"IF(E4<>0,1/E4,\"\")","v":1.4243264121245344E-3},{"$f":"IF(F4<>0,1/F4,\"\")","v":2.6277495359685332},{"$f":"[1]!PropsSI(\"P\",\"T\",$B4+273.15,\"Q\",1,Fluid)/1000","v":40.836399233017332},{"$f":"[1]!PropsSI(\"U\",\"T\",$B4+273.15,\"Q\",0,Fluid)/1000","v":118.36902644631901},{"$f":"[1]!PropsSI(\"U\",\"T\",$B4+273.15,\"Q\",1,Fluid)/1000","v":1427.0331485072018}]
[null,-49,{"$f":"[1]!PropsSI(\"S\",\"T\",$B5+273.15,\"Q\",0,Fluid)/1000","v":0.58558704333852862},{"$f":"[1]!PropsSI(\"S\",\"T\",$B5+273.15,\"Q\",1,Fluid)/1000","v":6.8905099548684188},{"$f":"[1]!PropsSI(\"D\",\"T\",$B5+273.15,\"Q\",0,Fluid)","v":700.91041193392959},{"$f":"[1]!PropsSI(\"D\",\"T\",$B5+273.15,\"Q\",1,Fluid)","v":0.40206626770847892},{"$f":"IF(E5<>0,1/E5,\"\")","v":1.4267158583660242E-3},{"$f":"IF(F5<>0,1/F5,\"\")","v":2.487152194336923},{"$f":"[1]!PropsSI(\"P\",\"T\",$B5+273.15,\"Q\",1,Fluid)/1000","v":43.312235822614241},{"$f":"[1]!PropsSI(\"U\",\"T\",$B5+273.15,\"Q\",0,Fluid)/1000","v":122.73025447586144},{"$f":"[1]!PropsSI(\"U\",\"T\",$B5+273.15,\"Q\",1,Fluid)/1000","v":1428.3163969821499}]
[null,-48,{"$f":"[1]!PropsSI(\"S\",\"T\",$B6+273.15,\"Q\",0,Fluid)/1000","v":0.60502511037027673},{"$f":"[1]!PropsSI(\"S\",\"T\",$B6+273.15,\"Q\",1,Fluid)/1000","v":6.8700424022546542},{"$f":"[1]!PropsSI(\"D\",\"T\",$B6+273.15,\"Q\",0,Fluid)","v":699.7305600803694},{"$f":"[1]!PropsSI(\"D\",\"T\",$B6+273.15,\"Q\",1,Fluid)","v":0.4245575225263658},1.429121517695529E-3,2.3553934318473844,{"$f":"[1]!PropsSI(\"P\",\"T\",$B6+273.15,\"Q\",1,Fluid)/1000","v":45.910816449672218},{"$f":"[1]!PropsSI(\"U\",\"T\",$B6+273.15,\"Q\",0,Fluid)/1000","v":127.09690373216034},{"$f":"[1]!PropsSI(\"U\",\"T\",$B6+273.15,\"Q\",1,Fluid)/1000","v":1429.5931236197523}]
[null,-47,{"$f":"[1]!PropsSI(\"S\",\"T\",$B7+273.15,\"Q\",0,Fluid)/1000","v":0.62440092648653067},{"$f":"[1]!PropsSI(\"S\",\"T\",$B7+273.15,\"Q\",1,Fluid)/1000","v":6.8498008054212747},{"$f":"[1]!PropsSI(\"D\",\"T\",$B7+273.15,\"Q\",0,Fluid)","v":698.54672691697579},{"$f":"[1]!PropsSI(\"D\",\"T\",$B7+273.15,\"Q\",1,Fluid)","v":0.4480603430408267},1.4315434622583993E-3,2.2318422407422949,{"$f":"[1]!PropsSI(\"P\",\"T\",$B7+273.15,\"Q\",1,Fluid)/1000","v":48.636734863879234},{"$f":"[1]!PropsSI(\"U\",\"T\",$B7+273.15,\"Q\",0,Fluid)/1000","v":131.46893699535312},{"$f":"[1]!PropsSI(\"U\",\"T\",$B7+273.15,\"Q\",1,Fluid)/1000","v":1430.8632258963421}]
[null,-46,{"$f":"[1]!PropsSI(\"S\",\"T\",$B8+273.15,\"Q\",0,Fluid)/1000","v":0.64371487647862902},{"$f":"[1]!PropsSI(\"S\",\"T\",$B8+273.15,\"Q\",1,Fluid)/1000","v":6.8297812043126056},{"$f":"[1]!PropsSI(\"D\",\"T\",$B8+273.15,\"Q\",0,Fluid)","v":697.35893647615842},{"$f":"[1]!PropsSI(\"D\",\"T\",$B8+273.15,\"Q\",1,Fluid)","v":0.47260819055821029},1.433981767055463E-3,2.1159176247429672,{"$f":"[1]!PropsSI(\"P\",\"T\",$B8+273.15,\"Q\",1,Fluid)/1000","v":51.494691027791816},{"$f":"[1]!PropsSI(\"U\",\"T\",$B8+273.15,\"Q\",0,Fluid)/1000","v":135.84631656935062},{"$f":"[1]!PropsSI(\"U\",\"T\",$B8+273.15,\"Q\",1,Fluid)/1000","v":1432.1266010592553}]
[null,-45,{"$f":"[1]!PropsSI(\"S\",\"T\",$B9+273.15,\"Q\",0,Fluid)/1000","v":0.66296733877696368},{"$f":"[1]!PropsSI(\"S\",\"T\",$B9+273.15,\"Q\",1,Fluid)/1000","v":6.8099797074451356},{"$f":"[1]!PropsSI(\"D\",\"T\",$B9+273.15,\"Q\",0,Fluid)","v":696.16721169080165},{"$f":"[1]!PropsSI(\"D\",\"T\",$B9+273.15,\"Q\",1,Fluid)","v":0.49823518449232601},1.436436510089682E-3,2.0070842668787923,{"$f":"[1]!PropsSI(\"P\",\"T\",$B9+273.15,\"Q\",1,Fluid)/1000","v":54.489491401797132},{"$f":"[1]!PropsSI(\"U\",\"T\",$B9+273.15,\"Q\",0,Fluid)/1000","v":140.22900444561981},{"$f":"[1]!PropsSI(\"U\",\"T\",$B9+273.15,\"Q\",1,Fluid)/1000","v":1433.3831461503592}]
[null,-44,{"$f":"[1]!PropsSI(\"S\",\"T\",$B10+273.15,\"Q\",0,Fluid)/1000","v":0.68215868624942944},{"$f":"[1]!PropsSI(\"S\",\"T\",$B10+273.15,\"Q\",1,Fluid)/1000","v":6.7903924905350479},{"$f":"[1]!PropsSI(\"D\",\"T\",$B10+273.15,\"Q\",0,Fluid)","v":694.97157434737017},{"$f":"[1]!PropsSI(\"D\",\"T\",$B10+273.15,\"Q\",1,Fluid)","v":0.52497610493658464},1.4389077725072052E-3,1.9048486028155447,{"$f":"[1]!PropsSI(\"P\",\"T\",$B10+273.15,\"Q\",1,Fluid)/1000","v":57.626049173265713},{"$f":"[1]!PropsSI(\"U\",\"T\",$B10+273.15,\"Q\",0,Fluid)/1000","v":144.61696245961713},{"$f":"[1]!PropsSI(\"U\",\"T\",$B10+273.15,\"Q\",1,Fluid)/1000","v":1434.6327580285983}]
[null,-43,{"$f":"[1]!PropsSI(\"S\",\"T\",$B11+273.15,\"Q\",0,Fluid)/1000","v":0.70128928695122339},{"$f":"[1]!PropsSI(\"S\",\"T\",$B11+273.15,\"Q\",1,Fluid)/1000","v":6.7710157951591485},{"$f":"[1]!PropsSI(\"D\",\"T\",$B11+273.15,\"Q\",0,Fluid)","v":693.77204504296833},{"$f":"[1]!PropsSI(\"D\",\"T\",$B11+273.15,\"Q\",1,Fluid)","v":0.55286639527939896},1.4413956387332753E-3,1.8087552590253486,{"$f":"[1]!PropsSI(\"P\",\"T\",$B11+273.15,\"Q\",1,Fluid)/1000","v":60.909384442414883},{"$f":"[1]!PropsSI(\"U\",\"T\",$B11+273.15,\"Q\",0,Fluid)/1000","v":149.01015244002696},{"$f":"[1]!PropsSI(\"U\",\"T\",$B11+273.15,\"Q\",1,Fluid)/1000","v":1435.875333391506}]
[null,-42,{"$f":"[1]!PropsSI(\"S\",\"T\",$B12+273.15,\"Q\",0,Fluid)/1000","v":0.72035950482804223},{"$f":"[1]!PropsSI(\"S\",\"T\",$B12+273.15,\"Q\",1,Fluid)/1000","v":6.7518459274475511},{"$f":"[1]!PropsSI(\"D\",\"T\",$B12+273.15,\"Q\",0,Fluid)","v":692.56864314605718},{"$f":"[1]!PropsSI(\"D\",\"T\",$B12+273.15,\"Q\",1,Fluid)","v":0.58194216487924655},1.4439001966034838E-3,1.7183838194771481,{"$f":"[1]!PropsSI(\"P\",\"T\",$B12+273.15,\"Q\",1,Fluid)/1000","v":64.344624353981729},{"$f":"[1]!PropsSI(\"U\",\"T\",$B12+273.15,\"Q\",0,Fluid)/1000","v":153.4085363509806},{"$f":"[1]!PropsSI(\"U\",\"T\",$B12+273.15,\"Q\",1,Fluid)/1000","v":1437.1107687956153}]
[null,-41,{"$f":"[1]!PropsSI(\"S\",\"T\",$B13+273.15,\"Q\",0,Fluid)/1000","v":0.73936970037469452},{"$f":"[1]!PropsSI(\"S\",\"T\",$B13+273.15,\"Q\",1,Fluid)/1000","v":6.732879256806604},{"$f":"[1]!PropsSI(\"D\",\"T\",$B13+273.15,\"Q\",0,Fluid)","v":691.36138676056873},{"$f":"[1]!PropsSI(\"D\",\"T\",$B13+273.15,\"Q\",1,Fluid)","v":0.61224019181590938},1.4464215374908095E-3,1.6333458883742864,{"$f":"[1]!PropsSI(\"P\",\"T\",$B13+273.15,\"Q\",1,Fluid)/1000","v":67.937003185891115},{"$f":"[1]!PropsSI(\"U\",\"T\",$B13+273.15,\"Q\",0,Fluid)/1000","v":157.81207642744064},{"$f":"[1]!PropsSI(\"U\",\"T\",$B13+273.15,\"Q\",1,Fluid)/1000","v":1438.3389606757107}]
[null,-40,{"$f":"[1]!PropsSI(\"S\",\"T\",$B14+273.15,\"Q\",0,Fluid)/1000","v":0.75832023125106873},{"$f":"[1]!PropsSI(\"S\",\"T\",$B14+273.15,\"Q\",1,Fluid)/1000","v":6.7141122146706236},{"$f":"[1]!PropsSI(\"D\",\"T\",$B14+273.15,\"Q\",0,Fluid)","v":690.15029269316312},{"$f":"[1]!PropsSI(\"D\",\"T\",$B14+273.15,\"Q\",1,Fluid)","v":0.64379792573452355},1.4489597564288715E-3,1.5532824198821042,{"$f":"[1]!PropsSI(\"P\",\"T\",$B14+273.15,\"Q\",1,Fluid)/1000","v":71.691862390003081},{"$f":"[1]!PropsSI(\"U\",\"T\",$B14+273.15,\"Q\",0,Fluid)/1000","v":162.2207353039399},{"$f":"[1]!PropsSI(\"U\",\"T\",$B14+273.15,\"Q\",1,Fluid)/1000","v":1439.5598053628576}]
[null,-39,{"$f":"[1]!PropsSI(\"S\",\"T\",$B15+273.15,\"Q\",0,Fluid)/1000","v":0.77721145285746329},{"$f":"[1]!PropsSI(\"S\",\"T\",$B15+273.15,\"Q\",1,Fluid)/1000","v":6.6955412932809812},{"$f":"[1]!PropsSI(\"D\",\"T\",$B15+273.15,\"Q\",0,Fluid)","v":688.93537642337867},{"$f":"[1]!PropsSI(\"D\",\"T\",$B15+273.15,\"Q\",1,Fluid)","v":0.67665349079930337},1.4515149522318326E-3,1.4778612888241225,{"$f":"[1]!PropsSI(\"P\",\"T\",$B15+273.15,\"Q\",1,Fluid)/1000","v":75.614650584726391},{"$f":"[1]!PropsSI(\"U\",\"T\",$B15+273.15,\"Q\",0,Fluid)/1000","v":166.63447613688044},{"$f":"[1]!PropsSI(\"U\",\"T\",$B15+273.15,\"Q\",1,Fluid)/1000","v":1440.7731991011522}]
[null,-38,{"$f":"[1]!PropsSI(\"S\",\"T\",$B16+273.15,\"Q\",0,Fluid)/1000","v":0.79604371887127645},{"$f":"[1]!PropsSI(\"S\",\"T\",$B16+273.15,\"Q\",1,Fluid)/1000","v":6.6771630444912597},{"$f":"[1]!PropsSI(\"D\",\"T\",$B16+273.15,\"Q\",0,Fluid)","v":687.71665207645538},{"$f":"[1]!PropsSI(\"D\",\"T\",$B16+273.15,\"Q\",1,Fluid)","v":0.71084568877382148},1.4540872276113321E-3,1.4067750790258817,{"$f":"[1]!PropsSI(\"P\",\"T\",$B16+273.15,\"Q\",1,Fluid)/1000","v":79.7109235052082},{"$f":"[1]!PropsSI(\"U\",\"T\",$B16+273.15,\"Q\",0,Fluid)/1000","v":171.05326272062308},{"$f":"[1]!PropsSI(\"U\",\"T\",$B16+273.15,\"Q\",1,Fluid)/1000","v":1441.979038063128}]
[null,-37,{"$f":"[1]!PropsSI(\"S\",\"T\",$B17+273.15,\"Q\",0,Fluid)/1000","v":0.81481738174686658},{"$f":"[1]!PropsSI(\"S\",\"T\",$B17+273.15,\"Q\",1,Fluid)/1000","v":6.6589740785971534},{"$f":"[1]!PropsSI(\"D\",\"T\",$B17+273.15,\"Q\",0,Fluid)","v":686.49413239860223},{"$f":"[1]!PropsSI(\"D\",\"T\",$B17+273.15,\"Q\",1,Fluid)","v":0.74641400224496346},1.456676689290864E-3,1.3397390683887691,{"$f":"[1]!PropsSI(\"P\",\"T\",$B17+273.15,\"Q\",1,Fluid)/1000","v":83.986343907923796},{"$f":"[1]!PropsSI(\"U\",\"T\",$B17+273.15,\"Q\",0,Fluid)/1000","v":175.47705959755683},{"$f":"[1]!PropsSI(\"U\",\"T\",$B17+273.15,\"Q\",1,Fluid)/1000","v":1443.1772183637631}]
[null,-36,{"$f":"[1]!PropsSI(\"S\",\"T\",$B18+273.15,\"Q\",0,Fluid)/1000","v":0.83353279318058826},{"$f":"[1]!PropsSI(\"S\",\"T\",$B18+273.15,\"Q\",1,Fluid)/1000","v":6.6409710631899515},{"$f":"[1]!PropsSI(\"D\",\"T\",$B18+273.15,\"Q\",0,Fluid)","v":685.26782873451305},{"$f":"[1]!PropsSI(\"D\",\"T\",$B18+273.15,\"Q\",1,Fluid)","v":0.78339859800772171},1.4592834481179486E-3,1.2764893919176292,{"$f":"[1]!PropsSI(\"P\",\"T\",$B18+273.15,\"Q\",1,Fluid)/1000","v":88.446681433831571},{"$f":"[1]!PropsSI(\"U\",\"T\",$B18+273.15,\"Q\",0,Fluid)/1000","v":179.9058321624006},{"$f":"[1]!PropsSI(\"U\",\"T\",$B18+273.15,\"Q\",1,Fluid)/1000","v":1444.3676360730233}]
[null,-35,{"$f":"[1]!PropsSI(\"S\",\"T\",$B19+273.15,\"Q\",0,Fluid)/1000","v":0.85219030454271594},{"$f":"[1]!PropsSI(\"S\",\"T\",$B19+273.15,\"Q\",1,Fluid)/1000","v":6.6231507220323333},{"$f":"[1]!PropsSI(\"D\",\"T\",$B19+273.15,\"Q\",0,Fluid)","v":684.03775100692155},{"$f":"[1]!PropsSI(\"D\",\"T\",$B19+273.15,\"Q\",1,Fluid)","v":0.82184033062824113},1.4619076191744881E-3,1.216781365834855,{"$f":"[1]!PropsSI(\"P\",\"T\",$B19+273.15,\"Q\",1,Fluid)/1000","v":93.097812426648389},{"$f":"[1]!PropsSI(\"U\",\"T\",$B19+273.15,\"Q\",0,Fluid)/1000","v":184.3395467609416},{"$f":"[1]!PropsSI(\"U\",\"T\",$B19+273.15,\"Q\",1,Fluid)/1000","v":1445.5501872268862}]
[null,-34,{"$f":"[1]!PropsSI(\"S\",\"T\",$B20+273.15,\"Q\",0,Fluid)/1000","v":0.87079026727816589},{"$f":"[1]!PropsSI(\"S\",\"T\",$B20+273.15,\"Q\",1,Fluid)/1000","v":6.6055098339554776},{"$f":"[1]!PropsSI(\"D\",\"T\",$B20+273.15,\"Q\",0,Fluid)","v":682.80390769801954},{"$f":"[1]!PropsSI(\"D\",\"T\",$B20+273.15,\"Q\",1,Fluid)","v":0.86178074620254019},1.4645493218856404E-3,1.1603879576174412,{"$f":"[1]!PropsSI(\"P\",\"T\",$B20+273.15,\"Q\",1,Fluid)/1000","v":97.945719712870641},{"$f":"[1]!PropsSI(\"U\",\"T\",$B20+273.15,\"Q\",0,Fluid)/1000","v":188.77817078345919},{"$f":"[1]!PropsSI(\"U\",\"T\",$B20+273.15,\"Q\",1,Fluid)/1000","v":1446.724767836791}]
[null,-33,{"$f":"[1]!PropsSI(\"S\",\"T\",$B21+273.15,\"Q\",0,Fluid)/1000","v":0.88933303327765878},{"$f":"[1]!PropsSI(\"S\",\"T\",$B21+273.15,\"Q\",1,Fluid)/1000","v":6.58804523177636},{"$f":"[1]!PropsSI(\"D\",\"T\",$B21+273.15,\"Q\",0,Fluid)","v":681.56630583255821},{"$f":"[1]!PropsSI(\"D\",\"T\",$B21+273.15,\"Q\",1,Fluid)","v":0.90326208632850735},1.4672086801275532E-3,1.1070983883146293,{"$f":"[1]!PropsSI(\"P\",\"T\",$B21+273.15,\"Q\",1,Fluid)/1000","v":102.99649234096299},{"$f":"[1]!PropsSI(\"U\",\"T\",$B21+273.15,\"Q\",0,Fluid)/1000","v":193.22167275304193},{"$f":"[1]!PropsSI(\"U\",\"T\",$B21+273.15,\"Q\",1,Fluid)/1000","v":1447.8912738974541}]
[null,-32,{"$f":"[1]!PropsSI(\"S\",\"T\",$B22+273.15,\"Q\",0,Fluid)/1000","v":0.90781895522107314},{"$f":"[1]!PropsSI(\"S\",\"T\",$B22+273.15,\"Q\",1,Fluid)/1000","v":6.570753801234261},{"$f":"[1]!PropsSI(\"D\",\"T\",$B22+273.15,\"Q\",0,Fluid)","v":680.3249509624635},{"$f":"[1]!PropsSI(\"D\",\"T\",$B22+273.15,\"Q\",1,Fluid)","v":0.94632729230906343},1.4698858223342957E-3,1.056716854863156,{"$f":"[1]!PropsSI(\"P\",\"T\",$B22+273.15,\"Q\",1,Fluid)/1000","v":108.25632528098403},{"$f":"[1]!PropsSI(\"U\",\"T\",$B22+273.15,\"Q\",0,Fluid)/1000","v":197.67002240903966},{"$f":"[1]!PropsSI(\"U\",\"T\",$B22+273.15,\"Q\",1,Fluid)/1000","v":1449.0496013929978}]
[null,-31,{"$f":"[1]!PropsSI(\"S\",\"T\",$B23+273.15,\"Q\",0,Fluid)/1000","v":0.92624838689458489},{"$f":"[1]!PropsSI(\"S\",\"T\",$B23+273.15,\"Q\",1,Fluid)/1000","v":6.5536324799454917},{"$f":"[1]!PropsSI(\"D\",\"T\",$B23+273.15,\"Q\",0,Fluid)","v":679.07984715281009},{"$f":"[1]!PropsSI(\"D\",\"T\",$B23+273.15,\"Q\",1,Fluid)","v":0.99102000960433567},1.4725808816043024E-3,1.0090613613334101,{"$f":"[1]!PropsSI(\"P\",\"T\",$B23+273.15,\"Q\",1,Fluid)/1000","v":113.73151908826281},{"$f":"[1]!PropsSI(\"U\",\"T\",$B23+273.15,\"Q\",0,Fluid)/1000","v":202.12319078587473},{"$f":"[1]!PropsSI(\"U\",\"T\",$B23+273.15,\"Q\",1,Fluid)/1000","v":1450.1996463013402}]
[null,-30,{"$f":"[1]!PropsSI(\"S\",\"T\",$B24+273.15,\"Q\",0,Fluid)/1000","v":0.94462168348322284},{"$f":"[1]!PropsSI(\"S\",\"T\",$B24+273.15,\"Q\",1,Fluid)/1000","v":6.5366782563754979},{"$f":"[1]!PropsSI(\"D\",\"T\",$B24+273.15,\"Q\",0,Fluid)","v":677.83099696900194},{"$f":"[1]!PropsSI(\"D\",\"T\",$B24+273.15,\"Q\",1,Fluid)","v":1.0373845925510059},1.4752939958066439E-3,0.96396264912796281,{"$f":"[1]!PropsSI(\"P\",\"T\",$B24+273.15,\"Q\",1,Fluid)/1000","v":119.42847952917957},{"$f":"[1]!PropsSI(\"U\",\"T\",$B24+273.15,\"Q\",0,Fluid)/1000","v":206.58115028744066},{"$f":"[1]!PropsSI(\"U\",\"T\",$B24+273.15,\"Q\",1,Fluid)/1000","v":1451.341304596793}]
[null,-29,{"$f":"[1]!PropsSI(\"S\",\"T\",$B25+273.15,\"Q\",0,Fluid)/1000","v":0.96293920184030601},{"$f":"[1]!PropsSI(\"S\",\"T\",$B25+273.15,\"Q\",1,Fluid)/1000","v":6.5198881688274266},{"$f":"[1]!PropsSI(\"D\",\"T\",$B25+273.15,\"Q\",0,Fluid)","v":676.57840146501871},{"$f":"[1]!PropsSI(\"D\",\"T\",$B25+273.15,\"Q\",1,Fluid)","v":1.0854661093671152},1.4780253076874244E-3,0.9212632171289562,{"$f":"[1]!PropsSI(\"P\",\"T\",$B25+273.15,\"Q\",1,Fluid)/1000","v":125.35371717392319},{"$f":"[1]!PropsSI(\"U\",\"T\",$B25+273.15,\"Q\",0,Fluid)/1000","v":211.04387475729959},{"$f":"[1]!PropsSI(\"U\",\"T\",$B25+273.15,\"Q\",1,Fluid)/1000","v":1452.4744722508192}]
[null,-28,{"$f":"[1]!PropsSI(\"S\",\"T\",$B26+273.15,\"Q\",0,Fluid)/1000","v":0.98120130073526302},{"$f":"[1]!PropsSI(\"S\",\"T\",$B26+273.15,\"Q\",1,Fluid)/1000","v":6.503259304446332},{"$f":"[1]!PropsSI(\"D\",\"T\",$B26+273.15,\"Q\",0,Fluid)","v":675.32206017259193},{"$f":"[1]!PropsSI(\"D\",\"T\",$B26+273.15,\"Q\",1,Fluid)","v":1.1353103474609925},1.4807749649766071E-3,0.88081642366459489,{"$f":"[1]!PropsSI(\"P\",\"T\",$B26+273.15,\"Q\",1,Fluid)/1000","v":131.51384695366264},{"$f":"[1]!PropsSI(\"U\",\"T\",$B26+273.15,\"Q\",0,Fluid)/1000","v":215.5113395449132},{"$f":"[1]!PropsSI(\"U\",\"T\",$B26+273.15,\"Q\",1,Fluid)/1000","v":1453.5990452309027}]
[null,-27,{"$f":"[1]!PropsSI(\"S\",\"T\",$B27+273.15,\"Q\",0,Fluid)/1000","v":0.99940834108125232},{"$f":"[1]!PropsSI(\"S\",\"T\",$B27+273.15,\"Q\",1,Fluid)/1000","v":6.4867887982383081},{"$f":"[1]!PropsSI(\"D\",\"T\",$B27+273.15,\"Q\",0,Fluid)","v":674.06197109118466},{"$f":"[1]!PropsSI(\"D\",\"T\",$B27+273.15,\"Q\",1,Fluid)","v":1.1869638190628358},1.483543120495554E-3,0.84248566294931171,{"$f":"[1]!PropsSI(\"P\",\"T\",$B27+273.15,\"Q\",1,Fluid)/1000","v":137.91558768406401},{"$f":"[1]!PropsSI(\"U\",\"T\",$B27+273.15,\"Q\",0,Fluid)/1000","v":219.98352156811038},{"$f":"[1]!PropsSI(\"U\",\"T\",$B27+273.15,\"Q\",1,Fluid)/1000","v":1454.7149194974832}]
[null,-26,{"$f":"[1]!PropsSI(\"S\",\"T\",$B28+273.15,\"Q\",0,Fluid)/1000","v":1.0175606861439135},{"$f":"[1]!PropsSI(\"S\",\"T\",$B28+273.15,\"Q\",1,Fluid)/1000","v":6.4704738321037718},{"$f":"[1]!PropsSI(\"D\",\"T\",$B28+273.15,\"Q\",0,Fluid)","v":672.79813067865246},{"$f":"[1]!PropsSI(\"D\",\"T\",$B28+273.15,\"Q\",1,Fluid)","v":1.240473767198224},1.4863299322655647E-3,0.80614360935550766,{"$f":"[1]!PropsSI(\"P\",\"T\",$B28+273.15,\"Q\",1,Fluid)/1000","v":144.56576156300994},{"$f":"[1]!PropsSI(\"U\",\"T\",$B28+273.15,\"Q\",0,Fluid)/1000","v":224.46039937201371},{"$f":"[1]!PropsSI(\"U\",\"T\",$B28+273.15,\"Q\",1,Fluid)/1000","v":1455.8219909989125}]
[null,-25,{"$f":"[1]!PropsSI(\"S\",\"T\",$B29+273.15,\"Q\",0,Fluid)/1000","v":1.0356587017325758},{"$f":"[1]!PropsSI(\"S\",\"T\",$B29+273.15,\"Q\",1,Fluid)/1000","v":6.4543116338842008},{"$f":"[1]!PropsSI(\"D\",\"T\",$B29+273.15,\"Q\",0,Fluid)","v":671.53053384247073},{"$f":"[1]!PropsSI(\"D\",\"T\",$B29+273.15,\"Q\",1,Fluid)","v":1.2958881720226763},1.4891355636176961E-3,0.77167152350743218,{"$f":"[1]!PropsSI(\"P\",\"T\",$B29+273.15,\"Q\",1,Fluid)/1000","v":151.47129363120186},{"$f":"[1]!PropsSI(\"U\",\"T\",$B29+273.15,\"Q\",0,Fluid)/1000","v":228.94195318462323},{"$f":"[1]!PropsSI(\"U\",\"T\",$B29+273.15,\"Q\",1,Fluid)/1000","v":1456.9201556643918}]
[null,-24,{"$f":"[1]!PropsSI(\"S\",\"T\",$B30+273.15,\"Q\",0,Fluid)/1000","v":1.0537027563751586},{"$f":"[1]!PropsSI(\"S\",\"T\",$B30+273.15,\"Q\",1,Fluid)/1000","v":6.4382994764217072},{"$f":"[1]!PropsSI(\"D\",\"T\",$B30+273.15,\"Q\",0,Fluid)","v":670.25917393141924},{"$f":"[1]!PropsSI(\"D\",\"T\",$B30+273.15,\"Q\",1,Fluid)","v":1.353255757536971},1.4919601833041374E-3,0.73895861475592495,{"$f":"[1]!PropsSI(\"P\",\"T\",$B30+273.15,\"Q\",1,Fluid)/1000","v":158.6392112086431},{"$f":"[1]!PropsSI(\"U\",\"T\",$B30+273.15,\"Q\",0,Fluid)/1000","v":233.42816496927082},{"$f":"[1]!PropsSI(\"U\",\"T\",$B30+273.15,\"Q\",1,Fluid)/1000","v":1458.0093093948465}]
[null,-23,{"$f":"[1]!PropsSI(\"S\",\"T\",$B31+273.15,\"Q\",0,Fluid)/1000","v":1.0716932214779487},{"$f":"[1]!PropsSI(\"S\",\"T\",$B31+273.15,\"Q\",1,Fluid)/1000","v":6.4224346766308162},{"$f":"[1]!PropsSI(\"D\",\"T\",$B31+273.15,\"Q\",0,Fluid)","v":668.98404272762457},{"$f":"[1]!PropsSI(\"D\",\"T\",$B31+273.15,\"Q\",1,Fluid)","v":1.4126259987030931},1.4948039656114008E-3,0.70790145510424007,{"$f":"[1]!PropsSI(\"P\",\"T\",$B31+273.15,\"Q\",1,Fluid)/1000","v":166.07664330441531},{"$f":"[1]!PropsSI(\"U\",\"T\",$B31+273.15,\"Q\",0,Fluid)/1000","v":237.91901847413058},{"$f":"[1]!PropsSI(\"U\",\"T\",$B31+273.15,\"Q\",1,Fluid)/1000","v":1459.089348051702}]
[null,-22,{"$f":"[1]!PropsSI(\"S\",\"T\",$B32+273.15,\"Q\",0,Fluid)/1000","v":1.0896304714714027},{"$f":"[1]!PropsSI(\"S\",\"T\",$B32+273.15,\"Q\",1,Fluid)/1000","v":6.4067145945818451},{"$f":"[1]!PropsSI(\"D\",\"T\",$B32+273.15,\"Q\",0,Fluid)","v":667.70513043885137},{"$f":"[1]!PropsSI(\"D\",\"T\",$B32+273.15,\"Q\",1,Fluid)","v":1.4740491289812223},1.4976670904756216E-3,0.6784034401154202,{"$f":"[1]!PropsSI(\"P\",\"T\",$B32+273.15,\"Q\",1,Fluid)/1000","v":173.79081999701316},{"$f":"[1]!PropsSI(\"U\",\"T\",$B32+273.15,\"Q\",0,Fluid)/1000","v":242.41449927899558},{"$f":"[1]!PropsSI(\"U\",\"T\",$B32+273.15,\"Q\",1,Fluid)/1000","v":1460.1601674435265}]
[null,-21,{"$f":"[1]!PropsSI(\"S\",\"T\",$B33+273.15,\"Q\",0,Fluid)/1000","v":1.1075148839430822},{"$f":"[1]!PropsSI(\"S\",\"T\",$B33+273.15,\"Q\",1,Fluid)/1000","v":6.3911366325953871},{"$f":"[1]!PropsSI(\"D\",\"T\",$B33+273.15,\"Q\",0,Fluid)","v":666.42242569096243},{"$f":"[1]!PropsSI(\"D\",\"T\",$B33+273.15,\"Q\",1,Fluid)","v":1.5375761483083703},1.5005497436002045E-3,0.65037429274653646,{"$f":"[1]!PropsSI(\"P\",\"T\",$B33+273.15,\"Q\",1,Fluid)/1000","v":181.78907179348542},{"$f":"[1]!PropsSI(\"U\",\"T\",$B33+273.15,\"Q\",0,Fluid)/1000","v":246.91459483949217},{"$f":"[1]!PropsSI(\"U\",\"T\",$B33+273.15,\"Q\",1,Fluid)/1000","v":1461.2216633104974}]
[null,-20,{"$f":"[1]!PropsSI(\"S\",\"T\",$B34+273.15,\"Q\",0,Fluid)/1000","v":1.1253468397587141},{"$f":"[1]!PropsSI(\"S\",\"T\",$B34+273.15,\"Q\",1,Fluid)/1000","v":6.375698234347305},{"$f":"[1]!PropsSI(\"D\",\"T\",$B34+273.15,\"Q\",0,Fluid)","v":665.13591552044682},{"$f":"[1]!PropsSI(\"D\",\"T\",$B34+273.15,\"Q\",1,Fluid)","v":1.6032588315399401},1.5034521165761033E-3,0.62372960642885955,{"$f":"[1]!PropsSI(\"P\",\"T\",$B34+273.15,\"Q\",1,Fluid)/1000","v":190.07882896383779},{"$f":"[1]!PropsSI(\"U\",\"T\",$B34+273.15,\"Q\",0,Fluid)/1000","v":251.41929452892987},{"$f":"[1]!PropsSI(\"U\",\"T\",$B34+273.15,\"Q\",1,Fluid)/1000","v":1462.2737313066712}]
[null,-19,{"$f":"[1]!PropsSI(\"S\",\"T\",$B35+273.15,\"Q\",0,Fluid)/1000","v":1.1431267231724367},{"$f":"[1]!PropsSI(\"S\",\"T\",$B35+273.15,\"Q\",1,Fluid)/1000","v":6.360396883983821},{"$f":"[1]!PropsSI(\"D\",\"T\",$B35+273.15,\"Q\",0,Fluid)","v":663.84558536693578},{"$f":"[1]!PropsSI(\"D\",\"T\",$B35+273.15,\"Q\",1,Fluid)","v":1.6711497373757347},1.5063744070049924E-3,0.59839042405041165,{"$f":"[1]!PropsSI(\"P\",\"T\",$B35+273.15,\"Q\",1,Fluid)/1000","v":198.66762085370883},{"$f":"[1]!PropsSI(\"U\",\"T\",$B35+273.15,\"Q\",0,Fluid)/1000","v":255.92858967795968},{"$f":"[1]!PropsSI(\"U\",\"T\",$B35+273.15,\"Q\",1,Fluid)/1000","v":1463.3162669800095}]
[null,-18,{"$f":"[1]!PropsSI(\"S\",\"T\",$B36+273.15,\"Q\",0,Fluid)/1000","v":1.1608549219270972},{"$f":"[1]!PropsSI(\"S\",\"T\",$B36+273.15,\"Q\",1,Fluid)/1000","v":6.3452301052461832},{"$f":"[1]!PropsSI(\"D\",\"T\",$B36+273.15,\"Q\",0,Fluid)","v":662.55141906562596},{"$f":"[1]!PropsSI(\"D\",\"T\",$B36+273.15,\"Q\",1,Fluid)","v":1.7413022177926636},1.5093168186255891E-3,0.57428284980170496,{"$f":"[1]!PropsSI(\"P\",\"T\",$B36+273.15,\"Q\",1,Fluid)/1000","v":207.56307517707691},{"$f":"[1]!PropsSI(\"U\",\"T\",$B36+273.15,\"Q\",0,Fluid)/1000","v":260.44247361221272},{"$f":"[1]!PropsSI(\"U\",\"T\",$B36+273.15,\"Q\",1,Fluid)/1000","v":1464.3491657501438}]
[null,-17,{"$f":"[1]!PropsSI(\"S\",\"T\",$B37+273.15,\"Q\",0,Fluid)/1000","v":1.1785318273455885},{"$f":"[1]!PropsSI(\"S\",\"T\",$B37+273.15,\"Q\",1,Fluid)/1000","v":6.3301954606042719},{"$f":"[1]!PropsSI(\"D\",\"T\",$B37+273.15,\"Q\",0,Fluid)","v":661.25339883952711},{"$f":"[1]!PropsSI(\"D\",\"T\",$B37+273.15,\"Q\",1,Fluid)","v":1.8137704280075946},1.5122795614434035E-3,0.55133769112030795,{"$f":"[1]!PropsSI(\"P\",\"T\",$B37+273.15,\"Q\",1,Fluid)/1000","v":216.77291728953983},{"$f":"[1]!PropsSI(\"U\",\"T\",$B37+273.15,\"Q\",0,Fluid)/1000","v":264.9609416880952},{"$f":"[1]!PropsSI(\"U\",\"T\",$B37+273.15,\"Q\",1,Fluid)/1000","v":1465.3723228838371}]
[null,-16,{"$f":"[1]!PropsSI(\"S\",\"T\",$B38+273.15,\"Q\",0,Fluid)/1000","v":1.1961578344139885},{"$f":"[1]!PropsSI(\"S\",\"T\",$B38+273.15,\"Q\",1,Fluid)/1000","v":6.3152905504003751},{"$f":"[1]!PropsSI(\"D\",\"T\",$B38+273.15,\"Q\",0,Fluid)","v":659.95150529146633},{"$f":"[1]!PropsSI(\"D\",\"T\",$B38+273.15,\"Q\",1,Fluid)","v":1.888609336988055},1.5152628518641713E-3,0.52949012822037356,{"$f":"[1]!PropsSI(\"P\",\"T\",$B38+273.15,\"Q\",1,Fluid)/1000","v":226.30496944424806},{"$f":"[1]!PropsSI(\"U\",\"T\",$B38+273.15,\"Q\",0,Fluid)/1000","v":269.48399132689423},{"$f":"[1]!PropsSI(\"U\",\"T\",$B38+273.15,\"Q\",1,Fluid)/1000","v":1466.3856334681691}]
[null,-15,{"$f":"[1]!PropsSI(\"S\",\"T\",$B39+273.15,\"Q\",0,Fluid)/1000","v":1.2137333418574225},{"$f":"[1]!PropsSI(\"S\",\"T\",$B39+273.15,\"Q\",1,Fluid)/1000","v":6.3005130119977242},{"$f":"[1]!PropsSI(\"D\",\"T\",$B39+273.15,\"Q\",0,Fluid)","v":658.64571739576911},{"$f":"[1]!PropsSI(\"D\",\"T\",$B39+273.15,\"Q\",1,Fluid)","v":1.9658747385517912},1.5182669128312525E-3,0.50867940891120766,{"$f":"[1]!PropsSI(\"P\",\"T\",$B39+273.15,\"Q\",1,Fluid)/1000","v":236.16715003223894},{"$f":"[1]!PropsSI(\"U\",\"T\",$B39+273.15,\"Q\",0,Fluid)/1000","v":274.01162204736403},{"$f":"[1]!PropsSI(\"U\",\"T\",$B39+273.15,\"Q\",1,Fluid)/1000","v":1467.388992381248}]
[null,-14,{"$f":"[1]!PropsSI(\"S\",\"T\",$B40+273.15,\"Q\",0,Fluid)/1000","v":1.2312587522093199},{"$f":"[1]!PropsSI(\"S\",\"T\",$B40+273.15,\"Q\",1,Fluid)/1000","v":6.2858605189417931},{"$f":"[1]!PropsSI(\"D\",\"T\",$B40+273.15,\"Q\",0,Fluid)","v":657.33601248955313},{"$f":"[1]!PropsSI(\"D\",\"T\",$B40+273.15,\"Q\",1,Fluid)","v":2.0456232630515045},1.5212919739672603E-3,0.48884856662623027,{"$f":"[1]!PropsSI(\"P\",\"T\",$B40+273.15,\"Q\",1,Fluid)/1000","v":246.36747280486713},{"$f":"[1]!PropsSI(\"U\",\"T\",$B40+273.15,\"Q\",0,Fluid)/1000","v":278.54383549694131},{"$f":"[1]!PropsSI(\"U\",\"T\",$B40+273.15,\"Q\",1,Fluid)/1000","v":1468.3822942607142}]
[null,-13,{"$f":"[1]!PropsSI(\"S\",\"T\",$B41+273.15,\"Q\",0,Fluid)/1000","v":1.2487344718749103},{"$f":"[1]!PropsSI(\"S\",\"T\",$B41+273.15,\"Q\",1,Fluid)/1000","v":6.2713307801256688},{"$f":"[1]!PropsSI(\"D\",\"T\",$B41+273.15,\"Q\",0,Fluid)","v":656.02236626356716},{"$f":"[1]!PropsSI(\"D\",\"T\",$B41+273.15,\"Q\",1,Fluid)","v":2.1279123896985022},1.524338271720197E-3,0.46994415975071563,{"$f":"[1]!PropsSI(\"P\",\"T\",$B41+273.15,\"Q\",1,Fluid)/1000","v":256.91404608683371},{"$f":"[1]!PropsSI(\"U\",\"T\",$B41+273.15,\"Q\",0,Fluid)/1000","v":283.0806354817426},{"$f":"[1]!PropsSI(\"U\",\"T\",$B41+273.15,\"Q\",1,Fluid)/1000","v":1469.3654334697153}]
[null,-12,{"$f":"[1]!PropsSI(\"S\",\"T\",$B42+273.15,\"Q\",0,Fluid)/1000","v":1.2661609111895531},{"$f":"[1]!PropsSI(\"S\",\"T\",$B42+273.15,\"Q\",1,Fluid)/1000","v":6.2569215389640611},{"$f":"[1]!PropsSI(\"D\",\"T\",$B42+273.15,\"Q\",0,Fluid)","v":654.70475275250726},{"$f":"[1]!PropsSI(\"D\",\"T\",$B42+273.15,\"Q\",1,Fluid)","v":2.2128004595347988},1.5274060495143861E-3,0.45191603051737972,{"$f":"[1]!PropsSI(\"P\",\"T\",$B42+273.15,\"Q\",1,Fluid)/1000","v":267.81507197430869},{"$f":"[1]!PropsSI(\"U\",\"T\",$B42+273.15,\"Q\",0,Fluid)/1000","v":287.6220279954876},{"$f":"[1]!PropsSI(\"U\",\"T\",$B42+273.15,\"Q\",1,Fluid)/1000","v":1470.338304060504}]
[null,-11,{"$f":"[1]!PropsSI(\"S\",\"T\",$B43+273.15,\"Q\",0,Fluid)/1000","v":1.2835384844726909},{"$f":"[1]!PropsSI(\"S\",\"T\",$B43+273.15,\"Q\",1,Fluid)/1000","v":6.2426305725741127},{"$f":"[1]!PropsSI(\"D\",\"T\",$B43+273.15,\"Q\",0,Fluid)","v":653.38314432474954},{"$f":"[1]!PropsSI(\"D\",\"T\",$B43+273.15,\"Q\",1,Fluid)","v":2.3003466890861097},1.5304955579064836E-3,0.43471708188355024,{"$f":"[1]!PropsSI(\"P\",\"T\",$B43+273.15,\"Q\",1,Fluid)/1000","v":279.07884552269894},{"$f":"[1]!PropsSI(\"U\",\"T\",$B43+273.15,\"Q\",0,Fluid)/1000","v":292.16802124749842},{"$f":"[1]!PropsSI(\"U\",\"T\",$B43+273.15,\"Q\",1,Fluid)/1000","v":1471.3007997355817}]
[null,-10,{"$f":"[1]!PropsSI(\"S\",\"T\",$B44+273.15,\"Q\",0,Fluid)/1000","v":1.3008676100779542},{"$f":"[1]!PropsSI(\"S\",\"T\",$B44+273.15,\"Q\",1,Fluid)/1000","v":6.2284556909628259},{"$f":"[1]!PropsSI(\"D\",\"T\",$B44+273.15,\"Q\",0,Fluid)","v":652.05751167143922},{"$f":"[1]!PropsSI(\"D\",\"T\",$B44+273.15,\"Q\",1,Fluid)","v":2.39061118472336},1.5336070547468566E-3,0.4183030709428055,{"$f":"[1]!PropsSI(\"P\",\"T\",$B44+273.15,\"Q\",1,Fluid)/1000","v":290.7137539254598},{"$f":"[1]!PropsSI(\"U\",\"T\",$B44+273.15,\"Q\",0,Fluid)/1000","v":296.7186256898965},{"$f":"[1]!PropsSI(\"U\",\"T\",$B44+273.15,\"Q\",1,Fluid)/1000","v":1472.2528138063562}]
[null,-9,{"$f":"[1]!PropsSI(\"S\",\"T\",$B45+273.15,\"Q\",0,Fluid)/1000","v":1.3181487104400746},{"$f":"[1]!PropsSI(\"S\",\"T\",$B45+273.15,\"Q\",1,Fluid)/1000","v":6.2143947362208038},{"$f":"[1]!PropsSI(\"D\",\"T\",$B45+273.15,\"Q\",0,Fluid)","v":650.72782379487217},{"$f":"[1]!PropsSI(\"D\",\"T\",$B45+273.15,\"Q\",1,Fluid)","v":2.4836549577617602},1.5367408053466427E-3,0.40263241754852613,{"$f":"[1]!PropsSI(\"P\",\"T\",$B45+273.15,\"Q\",1,Fluid)/1000","v":302.72827568417824},{"$f":"[1]!PropsSI(\"U\",\"T\",$B45+273.15,\"Q\",0,Fluid)/1000","v":301.27385404415185},{"$f":"[1]!PropsSI(\"U\",\"T\",$B45+273.15,\"Q\",1,Fluid)/1000","v":1473.1942391493108}]
[null,-8,{"$f":"[1]!PropsSI(\"S\",\"T\",$B46+273.15,\"Q\",0,Fluid)/1000","v":1.3353822121192143},{"$f":"[1]!PropsSI(\"S\",\"T\",$B46+273.15,\"Q\",1,Fluid)/1000","v":6.2004455817221036},{"$f":"[1]!PropsSI(\"D\",\"T\",$B46+273.15,\"Q\",0,Fluid)","v":649.39404799611395},{"$f":"[1]!PropsSI(\"D\",\"T\",$B46+273.15,\"Q\",1,Fluid)","v":2.5795399403275301},1.5398970826507854E-3,0.38766602694007046,{"$f":"[1]!PropsSI(\"P\",\"T\",$B46+273.15,\"Q\",1,Fluid)/1000","v":315.13097977240488},{"$f":"[1]!PropsSI(\"U\",\"T\",$B46+273.15,\"Q\",0,Fluid)/1000","v":305.83372132709803},{"$f":"[1]!PropsSI(\"U\",\"T\",$B46+273.15,\"Q\",1,Fluid)/1000","v":1474.1249681596346}]
[null,-7,{"$f":"[1]!PropsSI(\"S\",\"T\",$B47+273.15,\"Q\",0,Fluid)/1000","v":1.3525685458432082},{"$f":"[1]!PropsSI(\"S\",\"T\",$B47+273.15,\"Q\",1,Fluid)/1000","v":6.1866061313298282},{"$f":"[1]!PropsSI(\"D\",\"T\",$B47+273.15,\"Q\",0,Fluid)","v":648.05614986179467},{"$f":"[1]!PropsSI(\"D\",\"T\",$B47+273.15,\"Q\",1,Fluid)","v":2.6783290020238564},1.5430761674173779E-3,0.37336712526517785,{"$f":"[1]!PropsSI(\"P\",\"T\",$B47+273.15,\"Q\",1,Fluid)/1000","v":327.93052479375621},{"$f":"[1]!PropsSI(\"U\",\"T\",$B47+273.15,\"Q\",0,Fluid)/1000","v":310.39824487656335},{"$f":"[1]!PropsSI(\"U\",\"T\",$B47+273.15,\"Q\",1,Fluid)/1000","v":1475.0448927023124}]
[null,-6,{"$f":"[1]!PropsSI(\"S\",\"T\",$B48+273.15,\"Q\",0,Fluid)/1000","v":1.3697081465482261},{"$f":"[1]!PropsSI(\"S\",\"T\",$B48+273.15,\"Q\",1,Fluid)/1000","v":6.1728743186071977},{"$f":"[1]!PropsSI(\"D\",\"T\",$B48+273.15,\"Q\",0,Fluid)","v":646.71409325002776},{"$f":"[1]!PropsSI(\"D\",\"T\",$B48+273.15,\"Q\",1,Fluid)","v":2.7800859674285561},1.5462783484036238E-3,0.35970110698589342,{"$f":"[1]!PropsSI(\"P\",\"T\",$B48+273.15,\"Q\",1,Fluid)/1000","v":341.13565813541936},{"$f":"[1]!PropsSI(\"U\",\"T\",$B48+273.15,\"Q\",0,Fluid)/1000","v":314.96744437669571},{"$f":"[1]!PropsSI(\"U\",\"T\",$B48+273.15,\"Q\",1,Fluid)/1000","v":1475.9539040606239}]
[null,-5,{"$f":"[1]!PropsSI(\"S\",\"T\",$B49+273.15,\"Q\",0,Fluid)/1000","v":1.3868014534184931},{"$f":"[1]!PropsSI(\"S\",\"T\",$B49+273.15,\"Q\",1,Fluid)/1000","v":6.1592481060339059},{"$f":"[1]!PropsSI(\"D\",\"T\",$B49+273.15,\"Q\",0,Fluid)","v":645.36784027538886},{"$f":"[1]!PropsSI(\"D\",\"T\",$B49+273.15,\"Q\",1,Fluid)","v":2.8848756344574351},1.5495039225587751E-3,0.34663539324046883,{"$f":"[1]!PropsSI(\"P\",\"T\",$B49+273.15,\"Q\",1,Fluid)/1000","v":354.75521512038631},{"$f":"[1]!PropsSI(\"U\",\"T\",$B49+273.15,\"Q\",0,Fluid)/1000","v":319.54134188317681},{"$f":"[1]!PropsSI(\"U\",\"T\",$B49+273.15,\"Q\",1,Fluid)/1000","v":1476.8518928820454}]
[null,-4,{"$f":"[1]!PropsSI(\"S\",\"T\",$B50+273.15,\"Q\",0,Fluid)/1000","v":1.4038489099253544},{"$f":"[1]!PropsSI(\"S\",\"T\",$B50+273.15,\"Q\",1,Fluid)/1000","v":6.1457254842273645},{"$f":"[1]!PropsSI(\"D\",\"T\",$B50+273.15,\"Q\",0,Fluid)","v":644.01735129290466},{"$f":"[1]!PropsSI(\"D\",\"T\",$B50+273.15,\"Q\",1,Fluid)","v":2.9927637936286997},1.5527531952243805E-3,0.33413930031127143,{"$f":"[1]!PropsSI(\"P\",\"T\",$B50+273.15,\"Q\",1,Fluid)/1000","v":368.79811815596884},{"$f":"[1]!PropsSI(\"U\",\"T\",$B50+273.15,\"Q\",0,Fluid)/1000","v":324.11996184837045},{"$f":"[1]!PropsSI(\"U\",\"T\",$B50+273.15,\"Q\",1,Fluid)/1000","v":1477.7387491215088}]
[null,-3,{"$f":"[1]!PropsSI(\"S\",\"T\",$B51+273.15,\"Q\",0,Fluid)/1000","v":1.420850963866265},{"$f":"[1]!PropsSI(\"S\",\"T\",$B51+273.15,\"Q\",1,Fluid)/1000","v":6.1323044711686689},{"$f":"[1]!PropsSI(\"D\",\"T\",$B51+273.15,\"Q\",0,Fluid)","v":642.66258488099311},{"$f":"[1]!PropsSI(\"D\",\"T\",$B51+273.15,\"Q\",1,Fluid)","v":3.1038172482654121},1.5560264803422123E-3,0.32218391741938296,{"$f":"[1]!PropsSI(\"P\",\"T\",$B51+273.15,\"Q\",1,Fluid)/1000","v":383.27337588268944},{"$f":"[1]!PropsSI(\"U\",\"T\",$B51+273.15,\"Q\",0,Fluid)/1000","v":328.7033311465612},{"$f":"[1]!PropsSI(\"U\",\"T\",$B51+273.15,\"Q\",1,Fluid)/1000","v":1478.6143619819936}]
[null,-2,{"$f":"[1]!PropsSI(\"S\",\"T\",$B52+273.15,\"Q\",0,Fluid)/1000","v":1.4378080674041498},{"$f":"[1]!PropsSI(\"S\",\"T\",$B52+273.15,\"Q\",1,Fluid)/1000","v":6.1189831114330095},{"$f":"[1]!PropsSI(\"D\",\"T\",$B52+273.15,\"Q\",0,Fluid)","v":641.30349782329858},{"$f":"[1]!PropsSI(\"D\",\"T\",$B52+273.15,\"Q\",1,Fluid)","v":3.2181038356740999},1.559324100670249E-3,0.31074199313103545,{"$f":"[1]!PropsSI(\"P\",\"T\",$B52+273.15,\"Q\",1,Fluid)/1000","v":398.19008232761621},{"$f":"[1]!PropsSI(\"U\",\"T\",$B52+273.15,\"Q\",0,Fluid)/1000","v":333.29147909940008},{"$f":"[1]!PropsSI(\"U\",\"T\",$B52+273.15,\"Q\",1,Fluid)/1000","v":1479.4786198524193}]
[null,-1,{"$f":"[1]!PropsSI(\"S\",\"T\",$B53+273.15,\"Q\",0,Fluid)/1000","v":1.4547206771074759},{"$f":"[1]!PropsSI(\"S\",\"T\",$B53+273.15,\"Q\",1,Fluid)/1000","v":6.1057594754242155},{"$f":"[1]!PropsSI(\"D\",\"T\",$B53+273.15,\"Q\",0,Fluid)","v":639.94004508936405},{"$f":"[1]!PropsSI(\"D\",\"T\",$B53+273.15,\"Q\",1,Fluid)","v":3.3356924493402169},1.5626463880071071E-3,0.29978782971967183,{"$f":"[1]!PropsSI(\"P\",\"T\",$B53+273.15,\"Q\",1,Fluid)/1000","v":413.55741605390506},{"$f":"[1]!PropsSI(\"U\",\"T\",$B53+273.15,\"Q\",0,Fluid)/1000","v":337.88443750164453},{"$f":"[1]!PropsSI(\"U\",\"T\",$B53+273.15,\"Q\",1,Fluid)/1000","v":1480.3314102427989}]
[null,0,{"$f":"[1]!PropsSI(\"S\",\"T\",$B54+273.15,\"Q\",0,Fluid)/1000","v":1.4715892539915225},{"$f":"[1]!PropsSI(\"S\",\"T\",$B54+273.15,\"Q\",1,Fluid)/1000","v":6.0926316586131879},{"$f":"[1]!PropsSI(\"D\",\"T\",$B54+273.15,\"Q\",0,Fluid)","v":638.57217981408564},{"$f":"[1]!PropsSI(\"D\",\"T\",$B54+273.15,\"Q\",1,Fluid)","v":3.4566530621820979},1.5659936834253266E-3,0.28929718488112466,{"$f":"[1]!PropsSI(\"P\",\"T\",$B54+273.15,\"Q\",1,Fluid)/1000","v":429.38463931907995},{"$f":"[1]!PropsSI(\"U\",\"T\",$B54+273.15,\"Q\",0,Fluid)/1000","v":342.48224064733432},{"$f":"[1]!PropsSI(\"U\",\"T\",$B54+273.15,\"Q\",1,Fluid)/1000","v":1481.1726197166197}]
[null,1,{"$f":"[1]!PropsSI(\"S\",\"T\",$B55+273.15,\"Q\",0,Fluid)/1000","v":1.4884142635611541},{"$f":"[1]!PropsSI(\"S\",\"T\",$B55+273.15,\"Q\",1,Fluid)/1000","v":6.0795977807799728},{"$f":"[1]!PropsSI(\"D\",\"T\",$B55+273.15,\"Q\",0,Fluid)","v":637.19985327589188},{"$f":"[1]!PropsSI(\"D\",\"T\",$B55+273.15,\"Q\",1,Fluid)","v":3.5810567509074724},1.56936633751393E-3,0.27924718024828588,{"$f":"[1]!PropsSI(\"P\",\"T\",$B55+273.15,\"Q\",1,Fluid)/1000","v":445.68109723578317},{"$f":"[1]!PropsSI(\"U\",\"T\",$B55+273.15,\"Q\",0,Fluid)/1000","v":347.08492535647372},{"$f":"[1]!PropsSI(\"U\",\"T\",$B55+273.15,\"Q\",1,Fluid)/1000","v":1482.0021338204031}]
[null,2,{"$f":"[1]!PropsSI(\"S\",\"T\",$B56+273.15,\"Q\",0,Fluid)/1000","v":1.5051961758555932},{"$f":"[1]!PropsSI(\"S\",\"T\",$B56+273.15,\"Q\",1,Fluid)/1000","v":6.0666559852591737},{"$f":"[1]!PropsSI(\"D\",\"T\",$B56+273.15,\"Q\",0,Fluid)","v":635.82301487358552},{"$f":"[1]!PropsSI(\"D\",\"T\",$B56+273.15,\"Q\",1,Fluid)","v":3.7089757215185557},1.5727647106307094E-3,0.26961621619636073,{"$f":"[1]!PropsSI(\"P\",\"T\",$B56+273.15,\"Q\",1,Fluid)/1000","v":462.45621693949948},{"$f":"[1]!PropsSI(\"U\",\"T\",$B56+273.15,\"Q\",0,Fluid)/1000","v":351.69253100237825},{"$f":"[1]!PropsSI(\"U\",\"T\",$B56+273.15,\"Q\",1,Fluid)/1000","v":1482.8198370104112}]
[null,3,{"$f":"[1]!PropsSI(\"S\",\"T\",$B57+273.15,\"Q\",0,Fluid)/1000","v":1.5219354654954123},{"$f":"[1]!PropsSI(\"S\",\"T\",$B57+273.15,\"Q\",1,Fluid)/1000","v":6.0538044381884166},{"$f":"[1]!PropsSI(\"D\",\"T\",$B57+273.15,\"Q\",0,Fluid)","v":634.44161210179254},{"$f":"[1]!PropsSI(\"D\",\"T\",$B57+273.15,\"Q\",1,Fluid)","v":3.840483336013945},1.5761891731646941E-3,0.26038389247065569,{"$f":"[1]!PropsSI(\"P\",\"T\",$B57+273.15,\"Q\",1,Fluid)/1000","v":479.71950676432022},{"$f":"[1]!PropsSI(\"U\",\"T\",$B57+273.15,\"Q\",0,Fluid)/1000","v":356.30509953974195},{"$f":"[1]!PropsSI(\"U\",\"T\",$B57+273.15,\"Q\",1,Fluid)/1000","v":1483.6256125764401}]
[null,4,{"$f":"[1]!PropsSI(\"S\",\"T\",$B58+273.15,\"Q\",0,Fluid)/1000","v":1.5386326117322298},{"$f":"[1]!PropsSI(\"S\",\"T\",$B58+273.15,\"Q\",1,Fluid)/1000","v":6.0410413277595909},{"$f":"[1]!PropsSI(\"D\",\"T\",$B58+273.15,\"Q\",0,Fluid)","v":633.05559052495244},{"$f":"[1]!PropsSI(\"D\",\"T\",$B58+273.15,\"Q\",1,Fluid)","v":3.9756541403379111},1.5796401058092925E-3,0.25153093420621464,{"$f":"[1]!PropsSI(\"P\",\"T\",$B58+273.15,\"Q\",1,Fluid)/1000","v":497.48055542437976},{"$f":"[1]!PropsSI(\"U\",\"T\",$B58+273.15,\"Q\",0,Fluid)/1000","v":360.92267553356714},{"$f":"[1]!PropsSI(\"U\",\"T\",$B58+273.15,\"Q\",1,Fluid)/1000","v":1484.419342562654}]
[null,5,{"$f":"[1]!PropsSI(\"S\",\"T\",$B59+273.15,\"Q\",0,Fluid)/1000","v":1.5552880985013726},{"$f":"[1]!PropsSI(\"S\",\"T\",$B59+273.15,\"Q\",1,Fluid)/1000","v":6.0283648634725626},{"$f":"[1]!PropsSI(\"D\",\"T\",$B59+273.15,\"Q\",0,Fluid)","v":631.66489374979244},{"$f":"[1]!PropsSI(\"D\",\"T\",$B59+273.15,\"Q\",1,Fluid)","v":4.1145638936300912},1.5831178998466046E-3,0.24303912294280738,{"$f":"[1]!PropsSI(\"P\",\"T\",$B59+273.15,\"Q\",1,Fluid)/1000","v":515.749031209431},{"$f":"[1]!PropsSI(\"U\",\"T\",$B59+273.15,\"Q\",0,Fluid)/1000","v":365.54530618905108},{"$f":"[1]!PropsSI(\"U\",\"T\",$B59+273.15,\"Q\",1,Fluid)/1000","v":1485.2009076854079}]
[null,6,{"$f":"[1]!PropsSI(\"S\",\"T\",$B60+273.15,\"Q\",0,Fluid)/1000","v":1.5719024144778424},{"$f":"[1]!PropsSI(\"S\",\"T\",$B60+273.15,\"Q\",1,Fluid)/1000","v":6.0157732753910595},{"$f":"[1]!PropsSI(\"D\",\"T\",$B60+273.15,\"Q\",0,Fluid)","v":630.26946339621861},{"$f":"[1]!PropsSI(\"D\",\"T\",$B60+273.15,\"Q\",1,Fluid)","v":4.257289598831127},1.5866229574434427E-3,0.23489123227007108,{"$f":"[1]!PropsSI(\"P\",\"T\",$B60+273.15,\"Q\",1,Fluid)/1000","v":534.53468118829107},{"$f":"[1]!PropsSI(\"U\",\"T\",$B60+273.15,\"Q\",0,Fluid)/1000","v":370.17304138252126},{"$f":"[1]!PropsSI(\"U\",\"T\",$B60+273.15,\"Q\",1,Fluid)/1000","v":1485.9701872479895}]
[null,7,{"$f":"[1]!PropsSI(\"S\",\"T\",$B61+273.15,\"Q\",0,Fluid)/1000","v":1.5884760531360003},{"$f":"[1]!PropsSI(\"S\",\"T\",$B61+273.15,\"Q\",1,Fluid)/1000","v":6.0032648134004116},{"$f":"[1]!PropsSI(\"D\",\"T\",$B61+273.15,\"Q\",0,Fluid)","v":628.86923906655545},{"$f":"[1]!PropsSI(\"D\",\"T\",$B61+273.15,\"Q\",1,Fluid)","v":4.4039095347030441},1.5901556919596228E-3,0.22707096776624183,{"$f":"[1]!PropsSI(\"P\",\"T\",$B61+273.15,\"Q\",1,Fluid)/1000","v":553.84733042641756},{"$f":"[1]!PropsSI(\"U\",\"T\",$B61+273.15,\"Q\",0,Fluid)/1000","v":374.8059336935558},{"$f":"[1]!PropsSI(\"U\",\"T\",$B61+273.15,\"Q\",1,Fluid)/1000","v":1486.7270590522237}]
[null,8,{"$f":"[1]!PropsSI(\"S\",\"T\",$B62+273.15,\"Q\",0,Fluid)/1000","v":1.6050095128131849},{"$f":"[1]!PropsSI(\"S\",\"T\",$B62+273.15,\"Q\",1,Fluid)/1000","v":5.9908377464667364},{"$f":"[1]!PropsSI(\"D\",\"T\",$B62+273.15,\"Q\",0,Fluid)","v":627.46415831307002},{"$f":"[1]!PropsSI(\"D\",\"T\",$B62+273.15,\"Q\",1,Fluid)","v":4.5545032893259059},1.5937165282691019E-3,0.21956291092019523,{"$f":"[1]!PropsSI(\"P\",\"T\",$B62+273.15,\"Q\",1,Fluid)/1000","v":573.69688121475326},{"$f":"[1]!PropsSI(\"U\",\"T\",$B62+273.15,\"Q\",0,Fluid)/1000","v":379.44403843837154},{"$f":"[1]!PropsSI(\"U\",\"T\",$B62+273.15,\"Q\",1,Fluid)/1000","v":1487.4713993068631}]
[null,9,{"$f":"[1]!PropsSI(\"S\",\"T\",$B63+273.15,\"Q\",0,Fluid)/1000","v":1.6215032967776304},{"$f":"[1]!PropsSI(\"S\",\"T\",$B63+273.15,\"Q\",1,Fluid)/1000","v":5.978490361897383},{"$f":"[1]!PropsSI(\"D\",\"T\",$B63+273.15,\"Q\",0,Fluid)","v":626.05415660370829},{"$f":"[1]!PropsSI(\"D\",\"T\",$B63+273.15,\"Q\",1,Fluid)","v":4.7091517951348996},1.597305903094577E-3,0.21235246675061867,{"$f":"[1]!PropsSI(\"P\",\"T\",$B63+273.15,\"Q\",1,Fluid)/1000","v":594.09331231694659},{"$f":"[1]!PropsSI(\"U\",\"T\",$B63+273.15,\"Q\",0,Fluid)/1000","v":384.08741370458296},{"$f":"[1]!PropsSI(\"U\",\"T\",$B63+273.15,\"Q\",1,Fluid)/1000","v":1488.2030825326899}]
[null,10,{"$f":"[1]!PropsSI(\"S\",\"T\",$B64+273.15,\"Q\",0,Fluid)/1000","v":1.6379579133010373},{"$f":"[1]!PropsSI(\"S\",\"T\",$B64+273.15,\"Q\",1,Fluid)/1000","v":5.9662209646021216},{"$f":"[1]!PropsSI(\"D\",\"T\",$B64+273.15,\"Q\",0,Fluid)","v":624.6391672859678},{"$f":"[1]!PropsSI(\"D\",\"T\",$B64+273.15,\"Q\",1,Fluid)","v":4.8679373655665739},1.6009242653562056E-3,0.20542581485816039,{"$f":"[1]!PropsSI(\"P\",\"T\",$B64+273.15,\"Q\",1,Fluid)/1000","v":615.04667822875376},{"$f":"[1]!PropsSI(\"U\",\"T\",$B64+273.15,\"Q\",0,Fluid)/1000","v":388.73612038746791},{"$f":"[1]!PropsSI(\"U\",\"T\",$B64+273.15,\"Q\",1,Fluid)/1000","v":1488.921981464252}]
[null,11,{"$f":"[1]!PropsSI(\"S\",\"T\",$B65+273.15,\"Q\",0,Fluid)/1000","v":1.6543738757360447},{"$f":"[1]!PropsSI(\"S\",\"T\",$B65+273.15,\"Q\",1,Fluid)/1000","v":5.9540278763547523},{"$f":"[1]!PropsSI(\"D\",\"T\",$B65+273.15,\"Q\",0,Fluid)","v":623.21912154883489},{"$f":"[1]!PropsSI(\"D\",\"T\",$B65+273.15,\"Q\",1,Fluid)","v":5.0309437333857305},1.6045720765351082E-3,0.19876986366671584,{"$f":"[1]!PropsSI(\"P\",\"T\",$B65+273.15,\"Q\",1,Fluid)/1000","v":636.56710845812199},{"$f":"[1]!PropsSI(\"U\",\"T\",$B65+273.15,\"Q\",0,Fluid)/1000","v":393.39022222781961},{"$f":"[1]!PropsSI(\"U\",\"T\",$B65+273.15,\"Q\",1,Fluid)/1000","v":1489.6279669481316}]
[null,12,{"$f":"[1]!PropsSI(\"S\",\"T\",$B66+273.15,\"Q\",0,Fluid)/1000","v":1.6707517025989742},{"$f":"[1]!PropsSI(\"S\",\"T\",$B66+273.15,\"Q\",1,Fluid)/1000","v":5.9419094350547557},{"$f":"[1]!PropsSI(\"D\",\"T\",$B66+273.15,\"Q\",0,Fluid)","v":621.7939483827023},{"$f":"[1]!PropsSI(\"D\",\"T\",$B66+273.15,\"Q\",1,Fluid)","v":5.1982560907684023},1.6082498110523893E-3,0.19237220762861276,{"$f":"[1]!PropsSI(\"P\",\"T\",$B66+273.15,\"Q\",1,Fluid)/1000","v":658.66480681935275},{"$f":"[1]!PropsSI(\"U\",\"T\",$B66+273.15,\"Q\",0,Fluid)/1000","v":398.04978585151264},{"$f":"[1]!PropsSI(\"U\",\"T\",$B66+273.15,\"Q\",1,Fluid)/1000","v":1490.3209078376674}]
[null,13,{"$f":"[1]!PropsSI(\"S\",\"T\",$B67+273.15,\"Q\",0,Fluid)/1000","v":1.6870919176581165},{"$f":"[1]!PropsSI(\"S\",\"T\",$B67+273.15,\"Q\",1,Fluid)/1000","v":5.9298639939885671},{"$f":"[1]!PropsSI(\"D\",\"T\",$B67+273.15,\"Q\",0,Fluid)","v":620.36357453718995},{"$f":"[1]!PropsSI(\"D\",\"T\",$B67+273.15,\"Q\",1,Fluid)","v":5.369961131220486},1.6119579566644131E-3,0.18622108718554536,{"$f":"[1]!PropsSI(\"P\",\"T\",$B67+273.15,\"Q\",1,Fluid)/1000","v":681.35005075137531},{"$f":"[1]!PropsSI(\"U\",\"T\",$B67+273.15,\"Q\",0,Fluid)/1000","v":402.71488081089115},{"$f":"[1]!PropsSI(\"U\",\"T\",$B67+273.15,\"Q\",1,Fluid)/1000","v":1491.0006708840094}]
[null,14,{"$f":"[1]!PropsSI(\"S\",\"T\",$B68+273.15,\"Q\",0,Fluid)/1000","v":1.703395050027928},{"$f":"[1]!PropsSI(\"S\",\"T\",$B68+273.15,\"Q\",1,Fluid)/1000","v":5.9178899210899791},{"$f":"[1]!PropsSI(\"D\",\"T\",$B68+273.15,\"Q\",0,Fluid)","v":618.92792447677618},{"$f":"[1]!PropsSI(\"D\",\"T\",$B68+273.15,\"Q\",1,Fluid)","v":5.5461470934166641},1.6156970148751507E-3,0.18030535129279399,{"$f":"[1]!PropsSI(\"P\",\"T\",$B68+273.15,\"Q\",1,Fluid)/1000","v":704.63319065318979},{"$f":"[1]!PropsSI(\"U\",\"T\",$B68+273.15,\"Q\",0,Fluid)/1000","v":407.38557962809637},{"$f":"[1]!PropsSI(\"U\",\"T\",$B68+273.15,\"Q\",1,Fluid)/1000","v":1491.667120623408}]
[null,15,{"$f":"[1]!PropsSI(\"S\",\"T\",$B69+273.15,\"Q\",0,Fluid)/1000","v":1.7196616342693907},{"$f":"[1]!PropsSI(\"S\",\"T\",$B69+273.15,\"Q\",1,Fluid)/1000","v":5.9059855981992788},{"$f":"[1]!PropsSI(\"D\",\"T\",$B69+273.15,\"Q\",0,Fluid)","v":617.48692033415796},{"$f":"[1]!PropsSI(\"D\",\"T\",$B69+273.15,\"Q\",1,Fluid)","v":5.7269038070473668},{"$f":"IF(E69<>0,1/E69,\"\")","v":1.6194675013664129E-3},{"$f":"IF(F69<>0,1/F69,\"\")","v":0.17461442232876831},{"$f":"[1]!PropsSI(\"P\",\"T\",$B69+273.15,\"Q\",1,Fluid)/1000","v":728.52464924413368},{"$f":"[1]!PropsSI(\"U\",\"T\",$B69+273.15,\"Q\",0,Fluid)/1000","v":412.06195784044496},{"$f":"[1]!PropsSI(\"U\",\"T\",$B69+273.15,\"Q\",1,Fluid)/1000","v":1492.3201192606095}]
[null,16,{"$f":"[1]!PropsSI(\"S\",\"T\",$B70+273.15,\"Q\",0,Fluid)/1000","v":1.7358922104969396},{"$f":"[1]!PropsSI(\"S\",\"T\",$B70+273.15,\"Q\",1,Fluid)/1000","v":5.8941494203206233},{"$f":"[1]!PropsSI(\"D\",\"T\",$B70+273.15,\"Q\",0,Fluid)","v":616.04048186123543},{"$f":"[1]!PropsSI(\"D\",\"T\",$B70+273.15,\"Q\",1,Fluid)","v":5.9123227407681451},1.6232699464468836E-3,0.169138263225136,{"$f":"[1]!PropsSI(\"P\",\"T\",$B70+273.15,\"Q\",1,Fluid)/1000","v":753.03492094479179},{"$f":"[1]!PropsSI(\"U\",\"T\",$B70+273.15,\"Q\",0,Fluid)/1000","v":416.74409404798911},{"$f":"[1]!PropsSI(\"U\",\"T\",$B70+273.15,\"Q\",1,Fluid)/1000","v":1492.9595265482365}]
[null,17,{"$f":"[1]!PropsSI(\"S\",\"T\",$B71+273.15,\"Q\",0,Fluid)/1000","v":1.7520873244921888},{"$f":"[1]!PropsSI(\"S\",\"T\",$B71+273.15,\"Q\",1,Fluid)/1000","v":5.8823797948771031},{"$f":"[1]!PropsSI(\"D\",\"T\",$B71+273.15,\"Q\",0,Fluid)","v":614.58852637763857},{"$f":"[1]!PropsSI(\"D\",\"T\",$B71+273.15,\"Q\",1,Fluid)","v":6.1024970523499666},1.6271048955208488E-3,0.16386734666507002,{"$f":"[1]!PropsSI(\"P\",\"T\",$B71+273.15,\"Q\",1,Fluid)/1000","v":778.17457128850913},{"$f":"[1]!PropsSI(\"U\",\"T\",$B71+273.15,\"Q\",0,Fluid)/1000","v":421.43206996336374},{"$f":"[1]!PropsSI(\"U\",\"T\",$B71+273.15,\"Q\",1,Fluid)/1000","v":1493.585199662002}]
[null,18,{"$f":"[1]!PropsSI(\"S\",\"T\",$B72+273.15,\"Q\",0,Fluid)/1000","v":1.7682475278251044},{"$f":"[1]!PropsSI(\"S\",\"T\",$B72+273.15,\"Q\",1,Fluid)/1000","v":5.8706751409629989},{"$f":"[1]!PropsSI(\"D\",\"T\",$B72+273.15,\"Q\",0,Fluid)","v":613.13096871662958},{"$f":"[1]!PropsSI(\"D\",\"T\",$B72+273.15,\"Q\",1,Fluid)","v":6.2975216411353694},1.6309729095777732E-3,0.15879262620838119,{"$f":"[1]!PropsSI(\"P\",\"T\",$B72+273.15,\"Q\",1,Fluid)/1000","v":803.95423632968402},{"$f":"[1]!PropsSI(\"U\",\"T\",$B72+273.15,\"Q\",0,Fluid)/1000","v":426.12597046412958},{"$f":"[1]!PropsSI(\"U\",\"T\",$B72+273.15,\"Q\",1,Fluid)/1000","v":1494.1969930716239}]
[null,19,{"$f":"[1]!PropsSI(\"S\",\"T\",$B73+273.15,\"Q\",0,Fluid)/1000","v":1.7843733779821387},{"$f":"[1]!PropsSI(\"S\",\"T\",$B73+273.15,\"Q\",1,Fluid)/1000","v":5.8590338885926379},{"$f":"[1]!PropsSI(\"D\",\"T\",$B73+273.15,\"Q\",0,Fluid)","v":611.66772116844402},{"$f":"[1]!PropsSI(\"D\",\"T\",$B73+273.15,\"Q\",1,Fluid)","v":6.4974932029103432},1.6348745657033211E-3,0.15390550921270407,{"$f":"[1]!PropsSI(\"P\",\"T\",$B73+273.15,\"Q\",1,Fluid)/1000","v":830.38462214763513},{"$f":"[1]!PropsSI(\"U\",\"T\",$B73+273.15,\"Q\",0,Fluid)/1000","v":430.82588364751871},{"$f":"[1]!PropsSI(\"U\",\"T\",$B73+273.15,\"Q\",1,Fluid)/1000","v":1494.7947584072672}]
[null,20,{"$f":"[1]!PropsSI(\"S\",\"T\",$B74+273.15,\"Q\",0,Fluid)/1000","v":1.8004654385029886},{"$f":"[1]!PropsSI(\"S\",\"T\",$B74+273.15,\"Q\",1,Fluid)/1000","v":5.8474544779452629},{"$f":"[1]!PropsSI(\"D\",\"T\",$B74+273.15,\"Q\",0,Fluid)","v":610.19869342068478},{"$f":"[1]!PropsSI(\"D\",\"T\",$B74+273.15,\"Q\",1,Fluid)","v":6.7025102873100222},1.6388104576136439E-3,0.14919783142941492,{"$f":"[1]!PropsSI(\"P\",\"T\",$B74+273.15,\"Q\",1,Fluid)/1000","v":857.47650429177872},{"$f":"[1]!PropsSI(\"U\",\"T\",$B74+273.15,\"Q\",0,Fluid)/1000","v":435.53190088807355},{"$f":"[1]!PropsSI(\"U\",\"T\",$B74+273.15,\"Q\",1,Fluid)/1000","v":1495.3783443213488}]
[null,21,{"$f":"[1]!PropsSI(\"S\",\"T\",$B75+273.15,\"Q\",0,Fluid)/1000","v":1.816524279125163},{"$f":"[1]!PropsSI(\"S\",\"T\",$B75+273.15,\"Q\",1,Fluid)/1000","v":5.8359353586052967},{"$f":"[1]!PropsSI(\"D\",\"T\",$B75+273.15,\"Q\",0,Fluid)","v":608.72379249589949},{"$f":"[1]!PropsSI(\"D\",\"T\",$B75+273.15,\"Q\",1,Fluid)","v":6.9126733578809105},1.6427811962134472E-3,0.14466183316183065,{"$f":"[1]!PropsSI(\"P\",\"T\",$B75+273.15,\"Q\",1,Fluid)/1000","v":885.24072731503622},{"$f":"[1]!PropsSI(\"U\",\"T\",$B75+273.15,\"Q\",0,Fluid)/1000","v":440.24411689799723},{"$f":"[1]!PropsSI(\"U\",\"T\",$B75+273.15,\"Q\",1,Fluid)/1000","v":1495.9475963455179}]
[null,22,{"$f":"[1]!PropsSI(\"S\",\"T\",$B76+273.15,\"Q\",0,Fluid)/1000","v":1.8325504759373099},{"$f":"[1]!PropsSI(\"S\",\"T\",$B76+273.15,\"Q\",1,Fluid)/1000","v":5.8244749887972747},{"$f":"[1]!PropsSI(\"D\",\"T\",$B76+273.15,\"Q\",0,Fluid)","v":607.24292268608474},{"$f":"[1]!PropsSI(\"D\",\"T\",$B76+273.15,\"Q\",1,Fluid)","v":7.1280848549317941},1.6467874101794213E-3,0.14029013688131364,{"$f":"[1]!PropsSI(\"P\",\"T\",$B76+273.15,\"Q\",1,Fluid)/1000","v":913.68820431901042},{"$f":"[1]!PropsSI(\"U\",\"T\",$B76+273.15,\"Q\",0,Fluid)/1000","v":444.96262979052494},{"$f":"[1]!PropsSI(\"U\",\"T\",$B76+273.15,\"Q\",1,Fluid)/1000","v":1496.5023567426194}]
[null,23,{"$f":"[1]!PropsSI(\"S\",\"T\",$B77+273.15,\"Q\",0,Fluid)/1000","v":1.848544611541638},{"$f":"[1]!PropsSI(\"S\",\"T\",$B77+273.15,\"Q\",1,Fluid)/1000","v":5.8130718346148509},{"$f":"[1]!PropsSI(\"D\",\"T\",$B77+273.15,\"Q\",0,Fluid)","v":605.75598548401319},{"$f":"[1]!PropsSI(\"D\",\"T\",$B77+273.15,\"Q\",1,Fluid)","v":7.3488492613116305},1.6508297465702738E-3,0.1360757262044478,{"$f":"[1]!PropsSI(\"P\",\"T\",$B77+273.15,\"Q\",1,Fluid)/1000","v":942.8299165329895},{"$f":"[1]!PropsSI(\"U\",\"T\",$B77+273.15,\"Q\",0,Fluid)/1000","v":449.68754114644173},{"$f":"[1]!PropsSI(\"U\",\"T\",$B77+273.15,\"Q\",1,Fluid)/1000","v":1497.0424643534247}]
[null,24,{"$f":"[1]!PropsSI(\"S\",\"T\",$B78+273.15,\"Q\",0,Fluid)/1000","v":1.8645072752257394},{"$f":"[1]!PropsSI(\"S\",\"T\",$B78+273.15,\"Q\",1,Fluid)/1000","v":5.8017243692429723},{"$f":"[1]!PropsSI(\"D\",\"T\",$B78+273.15,\"Q\",0,Fluid)","v":604.26287951124198},{"$f":"[1]!PropsSI(\"D\",\"T\",$B78+273.15,\"Q\",1,Fluid)","v":7.5750731712627006},1.6549088714647672E-3,0.13201192614134294,{"$f":"[1]!PropsSI(\"P\",\"T\",$B78+273.15,\"Q\",1,Fluid)/1000","v":972.67691292443294},{"$f":"[1]!PropsSI(\"U\",\"T\",$B78+273.15,\"Q\",0,Fluid)/1000","v":454.41895608389126},{"$f":"[1]!PropsSI(\"U\",\"T\",$B78+273.15,\"Q\",1,Fluid)/1000","v":1497.5677544379021}]
[null,25,{"$f":"[1]!PropsSI(\"S\",\"T\",$B79+273.15,\"Q\",0,Fluid)/1000","v":1.8804390631447818},{"$f":"[1]!PropsSI(\"S\",\"T\",$B79+273.15,\"Q\",1,Fluid)/1000","v":5.7904310721726224},{"$f":"[1]!PropsSI(\"D\",\"T\",$B79+273.15,\"Q\",0,Fluid)","v":602.76350044256253},{"$f":"[1]!PropsSI(\"D\",\"T\",$B79+273.15,\"Q\",1,Fluid)","v":7.8068653625045581},1.6590254706294882E-3,0.12809238453155355,{"$f":"[1]!PropsSI(\"P\",\"T\",$B79+273.15,\"Q\",1,Fluid)/1000","v":1003.2403097967259},{"$f":"[1]!PropsSI(\"U\",\"T\",$B79+273.15,\"Q\",0,Fluid)/1000","v":459.15698333178437},{"$f":"[1]!PropsSI(\"U\",\"T\",$B79+273.15,\"Q\",1,Fluid)/1000","v":1498.0780585107939}]
[null,26,{"$f":"[1]!PropsSI(\"S\",\"T\",$B80+273.15,\"Q\",0,Fluid)/1000","v":1.8963405785123941},{"$f":"[1]!PropsSI(\"S\",\"T\",$B80+273.15,\"Q\",1,Fluid)/1000","v":5.7791904284071194},{"$f":"[1]!PropsSI(\"D\",\"T\",$B80+273.15,\"Q\",0,Fluid)","v":601.25774092718348},{"$f":"[1]!PropsSI(\"D\",\"T\",$B80+273.15,\"Q\",1,Fluid)","v":8.0443368717155366},1.6631802502166987E-3,0.12431105458997764,{"$f":"[1]!PropsSI(\"P\",\"T\",$B80+273.15,\"Q\",1,Fluid)/1000","v":1034.5312906111867},{"$f":"[1]!PropsSI(\"U\",\"T\",$B80+273.15,\"Q\",0,Fluid)/1000","v":463.90173530636838},{"$f":"[1]!PropsSI(\"U\",\"T\",$B80+273.15,\"Q\",1,Fluid)/1000","v":1498.5732041712329}]
[null,27,{"$f":"[1]!PropsSI(\"S\",\"T\",$B81+273.15,\"Q\",0,Fluid)/1000","v":1.9122124318049893},{"$f":"[1]!PropsSI(\"S\",\"T\",$B81+273.15,\"Q\",1,Fluid)/1000","v":5.7680009276592195},{"$f":"[1]!PropsSI(\"D\",\"T\",$B81+273.15,\"Q\",0,Fluid)","v":599.74549050554003},{"$f":"[1]!PropsSI(\"D\",\"T\",$B81+273.15,\"Q\",1,Fluid)","v":8.2876010735878012},1.6673739374965134E-3,0.12066217849058318,{"$f":"[1]!PropsSI(\"P\",\"T\",$B81+273.15,\"Q\",1,Fluid)/1000","v":1066.5611055359775},{"$f":"[1]!PropsSI(\"U\",\"T\",$B81+273.15,\"Q\",0,Fluid)/1000","v":468.65332819239643},{"$f":"[1]!PropsSI(\"U\",\"T\",$B81+273.15,\"Q\",1,Fluid)/1000","v":1499.0530149261244}]
[null,28,{"$f":"[1]!PropsSI(\"S\",\"T\",$B82+273.15,\"Q\",0,Fluid)/1000","v":1.9280552409752039},{"$f":"[1]!PropsSI(\"S\",\"T\",$B82+273.15,\"Q\",1,Fluid)/1000","v":5.7568610635380022},{"$f":"[1]!PropsSI(\"D\",\"T\",$B82+273.15,\"Q\",0,Fluid)","v":598.22663552262975},{"$f":"[1]!PropsSI(\"D\",\"T\",$B82+273.15,\"Q\",1,Fluid)","v":8.5367737636435894},1.6716072816222371E-3,0.11714027192085139,{"$f":"[1]!PropsSI(\"P\",\"T\",$B82+273.15,\"Q\",1,Fluid)/1000","v":1099.3410712966117},{"$f":"[1]!PropsSI(\"U\",\"T\",$B82+273.15,\"Q\",0,Fluid)/1000","v":473.41188202766727},{"$f":"[1]!PropsSI(\"U\",\"T\",$B82+273.15,\"Q\",1,Fluid)/1000","v":1499.5173100069956}]
[null,29,{"$f":"[1]!PropsSI(\"S\",\"T\",$B83+273.15,\"Q\",0,Fluid)/1000","v":1.9438696316781008},{"$f":"[1]!PropsSI(\"S\",\"T\",$B83+273.15,\"Q\",1,Fluid)/1000","v":5.7457693327246195},{"$f":"[1]!PropsSI(\"D\",\"T\",$B83+273.15,\"Q\",0,Fluid)","v":596.70105903698231},{"$f":"[1]!PropsSI(\"D\",\"T\",$B83+273.15,\"Q\",1,Fluid)","v":8.7919732450115013},1.6758810544326888E-3,0.11374010954450896,{"$f":"[1]!PropsSI(\"P\",\"T\",$B83+273.15,\"Q\",1,Fluid)/1000","v":1132.882570950937},{"$f":"[1]!PropsSI(\"U\",\"T\",$B83+273.15,\"Q\",0,Fluid)/1000","v":478.17752079206286},{"$f":"[1]!PropsSI(\"U\",\"T\",$B83+273.15,\"Q\",1,Fluid)/1000","v":1499.9659041800032}]
[null,30,{"$f":"[1]!PropsSI(\"S\",\"T\",$B84+273.15,\"Q\",0,Fluid)/1000","v":1.9596562375095994},{"$f":"[1]!PropsSI(\"S\",\"T\",$B84+273.15,\"Q\",1,Fluid)/1000","v":5.7347242341357889},{"$f":"[1]!PropsSI(\"D\",\"T\",$B84+273.15,\"Q\",0,Fluid)","v":595.16864072532087},{"$f":"[1]!PropsSI(\"D\",\"T\",$B84+273.15,\"Q\",1,Fluid)","v":9.0533204193755079},1.6801960512928215E-3,0.11045671131443058,{"$f":"[1]!PropsSI(\"P\",\"T\",$B84+273.15,\"Q\",1,Fluid)/1000","v":1167.1970537253767},{"$f":"[1]!PropsSI(\"U\",\"T\",$B84+273.15,\"Q\",0,Fluid)/1000","v":482.95037250097221},{"$f":"[1]!PropsSI(\"U\",\"T\",$B84+273.15,\"Q\",1,Fluid)/1000","v":1500.3986075487508}]
[null,31,{"$f":"[1]!PropsSI(\"S\",\"T\",$B85+273.15,\"Q\",0,Fluid)/1000","v":1.9754157002578623},{"$f":"[1]!PropsSI(\"S\",\"T\",$B85+273.15,\"Q\",1,Fluid)/1000","v":5.7237242680739548},{"$f":"[1]!PropsSI(\"D\",\"T\",$B85+273.15,\"Q\",0,Fluid)","v":593.6292567826639},{"$f":"[1]!PropsSI(\"D\",\"T\",$B85+273.15,\"Q\",1,Fluid)","v":9.3209388823218973},1.6845530919749028E-3,0.10728532958161555,{"$f":"[1]!PropsSI(\"P\",\"T\",$B85+273.15,\"Q\",1,Fluid)/1000","v":1202.2960348941772},{"$f":"[1]!PropsSI(\"U\",\"T\",$B85+273.15,\"Q\",0,Fluid)/1000","v":487.73056930337066},{"$f":"[1]!PropsSI(\"U\",\"T\",$B85+273.15,\"Q\",1,Fluid)/1000","v":1500.8152253495552}]
[null,32,{"$f":"[1]!PropsSI(\"S\",\"T\",$B86+273.15,\"Q\",0,Fluid)/1000","v":1.9911486701682277},{"$f":"[1]!PropsSI(\"S\",\"T\",$B86+273.15,\"Q\",1,Fluid)/1000","v":5.7127679353629395},{"$f":"[1]!PropsSI(\"D\",\"T\",$B86+273.15,\"Q\",0,Fluid)","v":592.08277981765229},{"$f":"[1]!PropsSI(\"D\",\"T\",$B86+273.15,\"Q\",1,Fluid)","v":9.5949550233243741},1.688953021582517E-3,0.10422143694984502,{"$f":"[1]!PropsSI(\"P\",\"T\",$B86+273.15,\"Q\",1,Fluid)/1000","v":1238.1910957033328},{"$f":"[1]!PropsSI(\"U\",\"T\",$B86+273.15,\"Q\",0,Fluid)/1000","v":492.51824758479881},{"$f":"[1]!PropsSI(\"U\",\"T\",$B86+273.15,\"Q\",1,Fluid)/1000","v":1501.2155577387866}]
[null,33,{"$f":"[1]!PropsSI(\"S\",\"T\",$B87+273.15,\"Q\",0,Fluid)/1000","v":2.00685580622237},{"$f":"[1]!PropsSI(\"S\",\"T\",$B87+273.15,\"Q\",1,Fluid)/1000","v":5.7018537364678208},{"$f":"[1]!PropsSI(\"D\",\"T\",$B87+273.15,\"Q\",0,Fluid)","v":590.52907874286541},{"$f":"[1]!PropsSI(\"D\",\"T\",$B87+273.15,\"Q\",1,Fluid)","v":9.8754981306237948},1.6933967115198248E-3,0.10126071482905886,{"$f":"[1]!PropsSI(\"P\",\"T\",$B87+273.15,\"Q\",1,Fluid)/1000","v":1274.8938833376321},{"$f":"[1]!PropsSI(\"U\",\"T\",$B87+273.15,\"Q\",0,Fluid)/1000","v":497.31354807547206},{"$f":"[1]!PropsSI(\"U\",\"T\",$B87+273.15,\"Q\",1,Fluid)/1000","v":1501.5993995718511}]
[null,34,{"$f":"[1]!PropsSI(\"S\",\"T\",$B88+273.15,\"Q\",0,Fluid)/1000","v":2.0225377764323751},{"$f":"[1]!PropsSI(\"S\",\"T\",$B88+273.15,\"Q\",1,Fluid)/1000","v":5.6909801705976824},{"$f":"[1]!PropsSI(\"D\",\"T\",$B88+273.15,\"Q\",0,Fluid)","v":588.96801865987356},{"$f":"[1]!PropsSI(\"D\",\"T\",$B88+273.15,\"Q\",1,Fluid)","v":10.162700501275879},1.6978850605086854E-3,9.8399042643680656E-2,{"$f":"[1]!PropsSI(\"P\",\"T\",$B88+273.15,\"Q\",1,Fluid)/1000","v":1312.4161109369682},{"$f":"[1]!PropsSI(\"U\",\"T\",$B88+273.15,\"Q\",0,Fluid)/1000","v":502.11661596381305},{"$f":"[1]!PropsSI(\"U\",\"T\",$B88+273.15,\"Q\",1,Fluid)/1000","v":1501.9665401733837}]
[null,35,{"$f":"[1]!PropsSI(\"S\",\"T\",$B89+273.15,\"Q\",0,Fluid)/1000","v":2.0381952581504219},{"$f":"[1]!PropsSI(\"S\",\"T\",$B89+273.15,\"Q\",1,Fluid)/1000","v":5.6801457347898765},{"$f":"[1]!PropsSI(\"D\",\"T\",$B89+273.15,\"Q\",0,Fluid)","v":587.39946073877013},{"$f":"[1]!PropsSI(\"D\",\"T\",$B89+273.15,\"Q\",1,Fluid)","v":10.456697556657648},1.7024189956563864E-3,9.5632487655083087E-2,{"$f":"[1]!PropsSI(\"P\",\"T\",$B89+273.15,\"Q\",1,Fluid)/1000","v":1350.769557659509},{"$f":"[1]!PropsSI(\"U\",\"T\",$B89+273.15,\"Q\",0,Fluid)/1000","v":506.92760101566472},{"$f":"[1]!PropsSI(\"U\",\"T\",$B89+273.15,\"Q\",1,Fluid)/1000","v":1502.3167630981786}]
[null,36,{"$f":"[1]!PropsSI(\"S\",\"T\",$B90+273.15,\"Q\",0,Fluid)/1000","v":2.0538289383948651},{"$f":"[1]!PropsSI(\"S\",\"T\",$B90+273.15,\"Q\",1,Fluid)/1000","v":5.6693489229742013},{"$f":"[1]!PropsSI(\"D\",\"T\",$B90+273.15,\"Q\",0,Fluid)","v":585.82326209189864},{"$f":"[1]!PropsSI(\"D\",\"T\",$B90+273.15,\"Q\",1,Fluid)","v":10.757627963744758},1.7069994735769455E-3,9.2957295360109979E-2,{"$f":"[1]!PropsSI(\"P\",\"T\",$B90+273.15,\"Q\",1,Fluid)/1000","v":1389.9660687964188},{"$f":"[1]!PropsSI(\"U\",\"T\",$B90+273.15,\"Q\",0,Fluid)/1000","v":511.74665769948348},{"$f":"[1]!PropsSI(\"U\",\"T\",$B90+273.15,\"Q\",1,Fluid)/1000","v":1502.6498458823394}]
[null,37,{"$f":"[1]!PropsSI(\"S\",\"T\",$B91+273.15,\"Q\",0,Fluid)/1000","v":2.0694395141935571},{"$f":"[1]!PropsSI(\"S\",\"T\",$B91+273.15,\"Q\",1,Fluid)/1000","v":5.6585882250154995},{"$f":"[1]!PropsSI(\"D\",\"T\",$B91+273.15,\"Q\",0,Fluid)","v":584.23927564147618},{"$f":"[1]!PropsSI(\"D\",\"T\",$B91+273.15,\"Q\",1,Fluid)","v":11.065633762491593},1.7116274815691427E-3,9.0369880430132277E-2,{"$f":"[1]!PropsSI(\"P\",\"T\",$B91+273.15,\"Q\",1,Fluid)/1000","v":1430.0175559375762},{"$f":"[1]!PropsSI(\"U\",\"T\",$B91+273.15,\"Q\",0,Fluid)/1000","v":516.57394531783757},{"$f":"[1]!PropsSI(\"U\",\"T\",$B91+273.15,\"Q\",1,Fluid)/1000","v":1502.9655597841199}]
[null,38,{"$f":"[1]!PropsSI(\"S\",\"T\",$B92+273.15,\"Q\",0,Fluid)/1000","v":2.0850276929452547},{"$f":"[1]!PropsSI(\"S\",\"T\",$B92+273.15,\"Q\",1,Fluid)/1000","v":5.6478621257328969},{"$f":"[1]!PropsSI(\"D\",\"T\",$B92+273.15,\"Q\",0,Fluid)","v":582.64734998079985},{"$f":"[1]!PropsSI(\"D\",\"T\",$B92+273.15,\"Q\",1,Fluid)","v":11.380860499669351},1.7163040388546405E-3,8.7866818157471757E-2,{"$f":"[1]!PropsSI(\"P\",\"T\",$B92+273.15,\"Q\",1,Fluid)/1000","v":1470.9359971910674},{"$f":"[1]!PropsSI(\"U\",\"T\",$B92+273.15,\"Q\",0,Fluid)/1000","v":521.40962814553552},{"$f":"[1]!PropsSI(\"U\",\"T\",$B92+273.15,\"Q\",1,Fluid)/1000","v":1503.2636695138685}]
[null,39,{"$f":"[1]!PropsSI(\"S\",\"T\",$B93+273.15,\"Q\",0,Fluid)/1000","v":2.1005941928000511},{"$f":"[1]!PropsSI(\"S\",\"T\",$B93+273.15,\"Q\",1,Fluid)/1000","v":5.6371691038938545},{"$f":"[1]!PropsSI(\"D\",\"T\",$B93+273.15,\"Q\",0,Fluid)","v":581.04732922869266},{"$f":"[1]!PropsSI(\"D\",\"T\",$B93+273.15,\"Q\",1,Fluid)","v":11.703457369543754},1.7210301978798238E-3,8.5444836378208114E-2,{"$f":"[1]!PropsSI(\"P\",\"T\",$B93+273.15,\"Q\",1,Fluid)/1000","v":1512.733437458264},{"$f":"[1]!PropsSI(\"U\",\"T\",$B93+273.15,\"Q\",0,Fluid)/1000","v":526.25387557474005},{"$f":"[1]!PropsSI(\"U\",\"T\",$B93+273.15,\"Q\",1,Fluid)/1000","v":1503.5439329524502}]
[null,40,{"$f":"[1]!PropsSI(\"S\",\"T\",$B94+273.15,\"Q\",0,Fluid)/1000","v":2.1161397430598394},{"$f":"[1]!PropsSI(\"S\",\"T\",$B94+273.15,\"Q\",1,Fluid)/1000","v":5.6265076311811582},{"$f":"[1]!PropsSI(\"D\",\"T\",$B94+273.15,\"Q\",0,Fluid)","v":579.43905287683549},{"$f":"[1]!PropsSI(\"D\",\"T\",$B94+273.15,\"Q\",1,Fluid)","v":12.033577361797963},1.7258070456851967E-3,8.3100807842447597E-2,{"$f":"[1]!PropsSI(\"P\",\"T\",$B94+273.15,\"Q\",1,Fluid)/1000","v":1555.4219887665979},{"$f":"[1]!PropsSI(\"U\",\"T\",$B94+273.15,\"Q\",0,Fluid)/1000","v":531.10686226744667},{"$f":"[1]!PropsSI(\"U\",\"T\",$B94+273.15,\"Q\",1,Fluid)/1000","v":1503.806100857483}]
[null,41,{"$f":"[1]!PropsSI(\"S\",\"T\",$B95+273.15,\"Q\",0,Fluid)/1000","v":2.131665084599859},{"$f":"[1]!PropsSI(\"S\",\"T\",$B95+273.15,\"Q\",1,Fluid)/1000","v":5.615876171130731},{"$f":"[1]!PropsSI(\"D\",\"T\",$B95+273.15,\"Q\",0,Fluid)","v":577.82235562959659},{"$f":"[1]!PropsSI(\"D\",\"T\",$B95+273.15,\"Q\",1,Fluid)","v":12.371377417137566},1.7306357053464947E-3,8.0831743005006104E-2,{"$f":"[1]!PropsSI(\"P\",\"T\",$B95+273.15,\"Q\",1,Fluid)/1000","v":1599.0138306608521},{"$f":"[1]!PropsSI(\"U\",\"T\",$B95+273.15,\"Q\",0,Fluid)/1000","v":535.96876831573536},{"$f":"[1]!PropsSI(\"U\",\"T\",$B95+273.15,\"Q\",1,Fluid)/1000","v":1504.049916556685}]
[null,42,{"$f":"[1]!PropsSI(\"S\",\"T\",$B96+273.15,\"Q\",0,Fluid)/1000","v":2.147170970312466},{"$f":"[1]!PropsSI(\"S\",\"T\",$B96+273.15,\"Q\",1,Fluid)/1000","v":5.605273178038054},{"$f":"[1]!PropsSI(\"D\",\"T\",$B96+273.15,\"Q\",0,Fluid)","v":576.19706723595152},{"$f":"[1]!PropsSI(\"D\",\"T\",$B96+273.15,\"Q\",1,Fluid)","v":12.717018591045395},1.735517337491935E-3,7.8634783211227147E-2,{"$f":"[1]!PropsSI(\"P\",\"T\",$B96+273.15,\"Q\",1,Fluid)/1000","v":1643.5212106564627},{"$f":"[1]!PropsSI(\"U\",\"T\",$B96+273.15,\"Q\",0,Fluid)/1000","v":540.83977941021146},{"$f":"[1]!PropsSI(\"U\",\"T\",$B96+273.15,\"Q\",1,Fluid)/1000","v":1504.2751156275451}]
[null,43,{"$f":"[1]!PropsSI(\"S\",\"T\",$B97+273.15,\"Q\",0,Fluid)/1000","v":2.1626581655743125},{"$f":"[1]!PropsSI(\"S\",\"T\",$B97+273.15,\"Q\",1,Fluid)/1000","v":5.5946970958308411},{"$f":"[1]!PropsSI(\"D\",\"T\",$B97+273.15,\"Q\",0,Fluid)","v":574.56301231305815},{"$f":"[1]!PropsSI(\"D\",\"T\",$B97+273.15,\"Q\",1,Fluid)","v":13.070666226187569},1.7404531419003648E-3,7.6507194254296126E-2,{"$f":"[1]!PropsSI(\"P\",\"T\",$B97+273.15,\"Q\",1,Fluid)/1000","v":1688.956444756298},{"$f":"[1]!PropsSI(\"U\",\"T\",$B97+273.15,\"Q\",0,Fluid)/1000","v":545.72008701710672},{"$f":"[1]!PropsSI(\"U\",\"T\",$B97+273.15,\"Q\",1,Fluid)/1000","v":1504.4814255625133}]
[null,44,{"$f":"[1]!PropsSI(\"S\",\"T\",$B98+273.15,\"Q\",0,Fluid)/1000","v":2.1781274487383033},{"$f":"[1]!PropsSI(\"S\",\"T\",$B98+273.15,\"Q\",1,Fluid)/1000","v":5.5841463569054852},{"$f":"[1]!PropsSI(\"D\",\"T\",$B98+273.15,\"Q\",0,Fluid)","v":572.92001016101312},{"$f":"[1]!PropsSI(\"D\",\"T\",$B98+273.15,\"Q\",1,Fluid)","v":13.432490134008944},1.7454443591854306E-3,7.4446360281937449E-2,{"$f":"[1]!PropsSI(\"P\",\"T\",$B98+273.15,\"Q\",1,Fluid)/1000","v":1735.3319180322103},{"$f":"[1]!PropsSI(\"U\",\"T\",$B98+273.15,\"Q\",0,Fluid)/1000","v":550.609888564524},{"$f":"[1]!PropsSI(\"U\",\"T\",$B98+273.15,\"Q\",1,Fluid)/1000","v":1504.6685654188232}]
[null,45,{"$f":"[1]!PropsSI(\"S\",\"T\",$B99+273.15,\"Q\",0,Fluid)/1000","v":2.1935796116516393},{"$f":"[1]!PropsSI(\"S\",\"T\",$B99+273.15,\"Q\",1,Fluid)/1000","v":5.573619380924459},{"$f":"[1]!PropsSI(\"D\",\"T\",$B99+273.15,\"Q\",0,Fluid)","v":571.26787456830164},{"$f":"[1]!PropsSI(\"D\",\"T\",$B99+273.15,\"Q\",1,Fluid)","v":13.80266478609783},1.7504922725712253E-3,7.2449778031790577E-2,{"$f":"[1]!PropsSI(\"P\",\"T\",$B99+273.15,\"Q\",1,Fluid)/1000","v":1782.6600852763763},{"$f":"[1]!PropsSI(\"U\",\"T\",$B99+273.15,\"Q\",0,Fluid)/1000","v":555.50938763834722},{"$f":"[1]!PropsSI(\"U\",\"T\",$B99+273.15,\"Q\",1,Fluid)/1000","v":1504.8362454519931}]
[null,46,{"$f":"[1]!PropsSI(\"S\",\"T\",$B100+273.15,\"Q\",0,Fluid)/1000","v":2.209015460201516},{"$f":"[1]!PropsSI(\"S\",\"T\",$B100+273.15,\"Q\",1,Fluid)/1000","v":5.5631145735719256},{"$f":"[1]!PropsSI(\"D\",\"T\",$B100+273.15,\"Q\",0,Fluid)","v":569.60641360739351},{"$f":"[1]!PropsSI(\"D\",\"T\",$B100+273.15,\"Q\",1,Fluid)","v":14.181369515940219},1.7555982097653474E-3,7.0515051376101201E-2,{"$f":"[1]!PropsSI(\"P\",\"T\",$B100+273.15,\"Q\",1,Fluid)/1000","v":1830.9534717212462},{"$f":"[1]!PropsSI(\"U\",\"T\",$B100+273.15,\"Q\",0,Fluid)/1000","v":560.41879418838744},{"$f":"[1]!PropsSI(\"U\",\"T\",$B100+273.15,\"Q\",1,Fluid)/1000","v":1504.9841667320047}]
[null,47,{"$f":"[1]!PropsSI(\"S\",\"T\",$B101+273.15,\"Q\",0,Fluid)/1000","v":2.2244358148900356},{"$f":"[1]!PropsSI(\"S\",\"T\",$B101+273.15,\"Q\",1,Fluid)/1000","v":5.5526303252643148},{"$f":"[1]!PropsSI(\"D\",\"T\",$B101+273.15,\"Q\",0,Fluid)","v":567.93542941992337},{"$f":"[1]!PropsSI(\"D\",\"T\",$B101+273.15,\"Q\",1,Fluid)","v":14.568788731734937},1.7607635449356943E-3,6.8639886157571731E-2,{"$f":"[1]!PropsSI(\"P\",\"T\",$B101+273.15,\"Q\",1,Fluid)/1000","v":1880.2246738337917},{"$f":"[1]!PropsSI(\"U\",\"T\",$B101+273.15,\"Q\",0,Fluid)/1000","v":565.33832474535029},{"$f":"[1]!PropsSI(\"U\",\"T\",$B101+273.15,\"Q\",1,Fluid)/1000","v":1505.1120207410427}]
[null,48,{"$f":"[1]!PropsSI(\"S\",\"T\",$B102+273.15,\"Q\",0,Fluid)/1000","v":2.2398415114400856},{"$f":"[1]!PropsSI(\"S\",\"T\",$B102+273.15,\"Q\",1,Fluid)/1000","v":5.5421650098126154},{"$f":"[1]!PropsSI(\"D\",\"T\",$B102+273.15,\"Q\",0,Fluid)","v":566.25471799083505},{"$f":"[1]!PropsSI(\"D\",\"T\",$B102+273.15,\"Q\",1,Fluid)","v":14.965112140989591},1.7659897007978398E-3,6.6822085299380427E-2,{"$f":"[1]!PropsSI(\"P\",\"T\",$B102+273.15,\"Q\",1,Fluid)/1000","v":1930.4863601855645},{"$f":"[1]!PropsSI(\"U\",\"T\",$B102+273.15,\"Q\",0,Fluid)/1000","v":570.26820264928813},{"$f":"[1]!PropsSI(\"U\",\"T\",$B102+273.15,\"Q\",1,Fluid)/1000","v":1505.2194889516397}]
[null,49,{"$f":"[1]!PropsSI(\"S\",\"T\",$B103+273.15,\"Q\",0,Fluid)/1000","v":2.2552334014340447},{"$f":"[1]!PropsSI(\"S\",\"T\",$B103+273.15,\"Q\",1,Fluid)/1000","v":5.5317169830327249},{"$f":"[1]!PropsSI(\"D\",\"T\",$B103+273.15,\"Q\",0,Fluid)","v":564.56406891083122},{"$f":"[1]!PropsSI(\"D\",\"T\",$B103+273.15,\"Q\",1,Fluid)","v":15.370534987675644},1.7712781508203682E-3,6.5059544173434236E-2,{"$f":"[1]!PropsSI(\"P\",\"T\",$B103+273.15,\"Q\",1,Fluid)/1000","v":1981.7512723997404},{"$f":"[1]!PropsSI(\"U\",\"T\",$B103+273.15,\"Q\",0,Fluid)/1000","v":575.20865829021307},{"$f":"[1]!PropsSI(\"U\",\"T\",$B103+273.15,\"Q\",1,Fluid)/1000","v":1505.3062423839376}]
[null,50,{"$f":"[1]!PropsSI(\"S\",\"T\",$B104+273.15,\"Q\",0,Fluid)/1000","v":2.270612352987301},{"$f":"[1]!PropsSI(\"S\",\"T\",$B104+273.15,\"Q\",1,Fluid)/1000","v":5.5212845813001188},{"$f":"[1]!PropsSI(\"D\",\"T\",$B104+273.15,\"Q\",0,Fluid)","v":562.8632651264254},{"$f":"[1]!PropsSI(\"D\",\"T\",$B104+273.15,\"Q\",1,Fluid)","v":15.785258302779182},1.7766304215560927E-3,6.3350246211931679E-2,{"$f":"[1]!PropsSI(\"P\",\"T\",$B104+273.15,\"Q\",1,Fluid)/1000","v":2034.0322261823633},{"$f":"[1]!PropsSI(\"U\",\"T\",$B104+273.15,\"Q\",0,Fluid)/1000","v":580.15992936163173},{"$f":"[1]!PropsSI(\"U\",\"T\",$B104+273.15,\"Q\",1,Fluid)/1000","v":1505.3719411407217}]
[null,51,{"$f":"[1]!PropsSI(\"S\",\"T\",$B105+273.15,\"Q\",0,Fluid)/1000","v":2.2859792514587807},{"$f":"[1]!PropsSI(\"S\",\"T\",$B105+273.15,\"Q\",1,Fluid)/1000","v":5.5108661200445637},{"$f":"[1]!PropsSI(\"D\",\"T\",$B105+273.15,\"Q\",0,Fluid)","v":561.15208267682965},{"$f":"[1]!PropsSI(\"D\",\"T\",$B105+273.15,\"Q\",1,Fluid)","v":16.209489169154736},1.7820480951077661E-3,6.1692258748222248E-2,{"$f":"[1]!PropsSI(\"P\",\"T\",$B105+273.15,\"Q\",1,Fluid)/1000","v":2087.3421124357324},{"$f":"[1]!PropsSI(\"U\",\"T\",$B105+273.15,\"Q\",0,Fluid)/1000","v":585.12226112779422},{"$f":"[1]!PropsSI(\"U\",\"T\",$B105+273.15,\"Q\",1,Fluid)/1000","v":1505.4162339187328}]
[null,52,{"$f":"[1]!PropsSI(\"S\",\"T\",$B106+273.15,\"Q\",0,Fluid)/1000","v":2.3013350002007864},{"$f":"[1]!PropsSI(\"S\",\"T\",$B106+273.15,\"Q\",1,Fluid)/1000","v":5.5004598921804915},{"$f":"[1]!PropsSI(\"D\",\"T\",$B106+273.15,\"Q\",0,Fluid)","v":559.43029041685963},{"$f":"[1]!PropsSI(\"D\",\"T\",$B106+273.15,\"Q\",1,Fluid)","v":16.643441001659568},1.7875328117375442E-3,6.0083729073830763E-2,{"$f":"[1]!PropsSI(\"P\",\"T\",$B106+273.15,\"Q\",1,Fluid)/1000","v":2141.6938984615158},{"$f":"[1]!PropsSI(\"U\",\"T\",$B106+273.15,\"Q\",0,Fluid)/1000","v":590.095906705527},{"$f":"[1]!PropsSI(\"U\",\"T\",$B106+273.15,\"Q\",1,Fluid)/1000","v":1505.4387574946827}]
[null,53,{"$f":"[1]!PropsSI(\"S\",\"T\",$B107+273.15,\"Q\",0,Fluid)/1000","v":2.316680521350678},{"$f":"[1]!PropsSI(\"S\",\"T\",$B107+273.15,\"Q\",1,Fluid)/1000","v":5.4900641664136156},{"$f":"[1]!PropsSI(\"D\",\"T\",$B107+273.15,\"Q\",0,Fluid)","v":557.69764972498422},{"$f":"[1]!PropsSI(\"D\",\"T\",$B107+273.15,\"Q\",1,Fluid)","v":17.08733384500265},1.7930862726302094E-3,5.8522880694606393E-2,{"$f":"[1]!PropsSI(\"P\",\"T\",$B107+273.15,\"Q\",1,Fluid)/1000","v":2197.1006293257219},{"$f":"[1]!PropsSI(\"U\",\"T\",$B107+273.15,\"Q\",0,Fluid)/1000","v":595.08112736157534},{"$f":"[1]!PropsSI(\"U\",\"T\",$B107+273.15,\"Q\",1,Fluid)/1000","v":1505.4391361768062}]
[null,54,{"$f":"[1]!PropsSI(\"S\",\"T\",$B108+273.15,\"Q\",0,Fluid)/1000","v":2.3320167566673087},{"$f":"[1]!PropsSI(\"S\",\"T\",$B108+273.15,\"Q\",1,Fluid)/1000","v":5.4796771858006093},{"$f":"[1]!PropsSI(\"D\",\"T\",$B108+273.15,\"Q\",0,Fluid)","v":555.95391419551163},{"$f":"[1]!PropsSI(\"D\",\"T\",$B108+273.15,\"Q\",1,Fluid)","v":17.54139468081825},1.7987102428211905E-3,5.7008009807425028E-2,{"$f":"[1]!PropsSI(\"P\",\"T\",$B108+273.15,\"Q\",1,Fluid)/1000","v":2253.5754288952453},{"$f":"[1]!PropsSI(\"U\",\"T\",$B108+273.15,\"Q\",0,Fluid)/1000","v":600.07819282653304},{"$f":"[1]!PropsSI(\"U\",\"T\",$B108+273.15,\"Q\",1,Fluid)/1000","v":1505.4169812721841}]
[null,55,{"$f":"[1]!PropsSI(\"S\",\"T\",$B109+273.15,\"Q\",0,Fluid)/1000","v":2.3473446684145909},{"$f":"[1]!PropsSI(\"S\",\"T\",$B109+273.15,\"Q\",1,Fluid)/1000","v":5.4692971654101186},{"$f":"[1]!PropsSI(\"D\",\"T\",$B109+273.15,\"Q\",0,Fluid)","v":554.19882931403606},{"$f":"[1]!PropsSI(\"D\",\"T\",$B109+273.15,\"Q\",1,Fluid)","v":18.005857774116652},1.8044065543006611E-3,5.553748188756083E-2,{"$f":"[1]!PropsSI(\"P\",\"T\",$B109+273.15,\"Q\",1,Fluid)/1000","v":2311.1315020322604},{"$f":"[1]!PropsSI(\"U\",\"T\",$B109+273.15,\"Q\",0,Fluid)/1000","v":605.08738162625218},{"$f":"[1]!PropsSI(\"U\",\"T\",$B109+273.15,\"Q\",1,Fluid)/1000","v":1505.3718904115642}]
[null,56,{"$f":"[1]!PropsSI(\"S\",\"T\",$B110+273.15,\"Q\",0,Fluid)/1000","v":2.3626652402964341},{"$f":"[1]!PropsSI(\"S\",\"T\",$B110+273.15,\"Q\",1,Fluid)/1000","v":5.4589222909892774},{"$f":"[1]!PropsSI(\"D\",\"T\",$B110+273.15,\"Q\",0,Fluid)","v":552.43213211477905},{"$f":"[1]!PropsSI(\"D\",\"T\",$B110+273.15,\"Q\",1,Fluid)","v":18.480965012271717},1.8101771093073015E-3,5.4109728541555095E-2,{"$f":"[1]!PropsSI(\"P\",\"T\",$B110+273.15,\"Q\",1,Fluid)/1000","v":2369.7821354817879},{"$f":"[1]!PropsSI(\"U\",\"T\",$B110+273.15,\"Q\",0,Fluid)/1000","v":610.10898143224983},{"$f":"[1]!PropsSI(\"U\",\"T\",$B110+273.15,\"Q\",1,Fluid)/1000","v":1505.303446989948}]
[null,57,{"$f":"[1]!PropsSI(\"S\",\"T\",$B111+273.15,\"Q\",0,Fluid)/1000","v":2.3779794784455075},{"$f":"[1]!PropsSI(\"S\",\"T\",$B111+273.15,\"Q\",1,Fluid)/1000","v":5.4485507167188079},{"$f":"[1]!PropsSI(\"D\",\"T\",$B111+273.15,\"Q\",0,Fluid)","v":550.65355081887174},{"$f":"[1]!PropsSI(\"D\",\"T\",$B111+273.15,\"Q\",1,Fluid)","v":18.9669662861962},1.8160238838247922E-3,5.2723244450947386E-2,{"$f":"[1]!PropsSI(\"P\",\"T\",$B111+273.15,\"Q\",1,Fluid)/1000","v":2429.5406999247389},{"$f":"[1]!PropsSI(\"U\",\"T\",$B111+273.15,\"Q\",0,Fluid)/1000","v":615.14328943207022},{"$f":"[1]!PropsSI(\"U\",\"T\",$B111+273.15,\"Q\",1,Fluid)/1000","v":1505.2112194601311}]
[null,58,{"$f":"[1]!PropsSI(\"S\",\"T\",$B112+273.15,\"Q\",0,Fluid)/1000","v":2.3932884124703078},{"$f":"[1]!PropsSI(\"S\",\"T\",$B112+273.15,\"Q\",1,Fluid)/1000","v":5.4381805631958322},{"$f":"[1]!PropsSI(\"D\",\"T\",$B112+273.15,\"Q\",0,Fluid)","v":548.86280445211526},{"$f":"[1]!PropsSI(\"D\",\"T\",$B112+273.15,\"Q\",1,Fluid)","v":19.464119886380818},1.8219489312966252E-3,5.1376584496877611E-2,{"$f":"[1]!PropsSI(\"P\",\"T\",$B112+273.15,\"Q\",1,Fluid)/1000","v":2490.420651721091},{"$f":"[1]!PropsSI(\"U\",\"T\",$B112+273.15,\"Q\",0,Fluid)/1000","v":620.19061272119734},{"$f":"[1]!PropsSI(\"U\",\"T\",$B112+273.15,\"Q\",1,Fluid)/1000","v":1505.0947606329212}]
[null,59,{"$f":"[1]!PropsSI(\"S\",\"T\",$B113+273.15,\"Q\",0,Fluid)/1000","v":2.4085930965644096},{"$f":"[1]!PropsSI(\"S\",\"T\",$B113+273.15,\"Q\",1,Fluid)/1000","v":5.4278099152545209},{"$f":"[1]!PropsSI(\"D\",\"T\",$B113+273.15,\"Q\",0,Fluid)","v":547.05960244085429},{"$f":"[1]!PropsSI(\"D\",\"T\",$B113+273.15,\"Q\",1,Fluid)","v":19.972692925164072},1.827954386575484E-3,5.0068361024069828E-2,{"$f":"[1]!PropsSI(\"P\",\"T\",$B113+273.15,\"Q\",1,Fluid)/1000","v":2552.4355348414069},{"$f":"[1]!PropsSI(\"U\",\"T\",$B113+273.15,\"Q\",0,Fluid)/1000","v":625.25126871797534},{"$f":"[1]!PropsSI(\"U\",\"T\",$B113+273.15,\"Q\",1,Fluid)/1000","v":1504.9536069291569}]
[null,60,{"$f":"[1]!PropsSI(\"S\",\"T\",$B114+273.15,\"Q\",0,Fluid)/1000","v":2.4238946106825283},{"$f":"[1]!PropsSI(\"S\",\"T\",$B114+273.15,\"Q\",1,Fluid)/1000","v":5.4174368196707041},{"$f":"[1]!PropsSI(\"D\",\"T\",$B114+273.15,\"Q\",0,Fluid)","v":545.24364418440541},{"$f":"[1]!PropsSI(\"D\",\"T\",$B114+273.15,\"Q\",1,Fluid)","v":20.492961785742654},1.8340424701251403E-3,4.8797241240927852E-2,{"$f":"[1]!PropsSI(\"P\",\"T\",$B114+273.15,\"Q\",1,Fluid)/1000","v":2615.5989829221958},{"$f":"[1]!PropsSI(\"U\",\"T\",$B114+273.15,\"Q\",0,Fluid)/1000","v":630.32558560320604},{"$f":"[1]!PropsSI(\"U\",\"T\",$B114+273.15,\"Q\",1,Fluid)/1000","v":1504.7872775879323}]
[null,61,{"$f":"[1]!PropsSI(\"S\",\"T\",$B115+273.15,\"Q\",0,Fluid)/1000","v":2.4391940617883123},{"$f":"[1]!PropsSI(\"S\",\"T\",$B115+273.15,\"Q\",1,Fluid)/1000","v":5.4070592827413471},{"$f":"[1]!PropsSI(\"D\",\"T\",$B115+273.15,\"Q\",0,Fluid)","v":543.41461860236063},{"$f":"[1]!PropsSI(\"D\",\"T\",$B115+273.15,\"Q\",1,Fluid)","v":21.025212599974193},1.8402154924944008E-3,4.7561944748241332E-2,{"$f":"[1]!PropsSI(\"P\",\"T\",$B115+273.15,\"Q\",1,Fluid)/1000","v":2679.9247214503662},{"$f":"[1]!PropsSI(\"U\",\"T\",$B115+273.15,\"Q\",0,Fluid)/1000","v":635.41390278623578},{"$f":"[1]!PropsSI(\"U\",\"T\",$B115+273.15,\"Q\",1,Fluid)/1000","v":1504.5952738277597}]
[null,62,{"$f":"[1]!PropsSI(\"S\",\"T\",$B116+273.15,\"Q\",0,Fluid)/1000","v":2.4544925851793589},{"$f":"[1]!PropsSI(\"S\",\"T\",$B116+273.15,\"Q\",1,Fluid)/1000","v":5.3966752677288916},{"$f":"[1]!PropsSI(\"D\",\"T\",$B116+273.15,\"Q\",0,Fluid)","v":541.5722036549256},{"$f":"[1]!PropsSI(\"D\",\"T\",$B116+273.15,\"Q\",1,Fluid)","v":21.569741757217827},1.8464758590844732E-3,4.6361241189425577E-2,{"$f":"[1]!PropsSI(\"P\",\"T\",$B116+273.15,\"Q\",1,Fluid)/1000","v":2745.4265700830761},{"$f":"[1]!PropsSI(\"U\",\"T\",$B116+273.15,\"Q\",0,Fluid)/1000","v":640.51657139952385},{"$f":"[1]!PropsSI(\"U\",\"T\",$B116+273.15,\"Q\",1,Fluid)/1000","v":1504.3770779570714}]
[null,63,{"$f":"[1]!PropsSI(\"S\",\"T\",$B117+273.15,\"Q\",0,Fluid)/1000","v":2.4697913458952683},{"$f":"[1]!PropsSI(\"S\",\"T\",$B117+273.15,\"Q\",1,Fluid)/1000","v":5.3862826921595417},{"$f":"[1]!PropsSI(\"D\",\"T\",$B117+273.15,\"Q\",0,Fluid)","v":539.7160658342907},{"$f":"[1]!PropsSI(\"D\",\"T\",$B117+273.15,\"Q\",1,Fluid)","v":22.126856446662096},1.8528260752331033E-3,4.5193948015641104E-2,{"$f":"[1]!PropsSI(\"P\",\"T\",$B117+273.15,\"Q\",1,Fluid)/1000","v":2812.1184451110212},{"$f":"[1]!PropsSI(\"U\",\"T\",$B117+273.15,\"Q\",0,Fluid)/1000","v":645.63395482384351},{"$f":"[1]!PropsSI(\"U\",\"T\",$B117+273.15,\"Q\",1,Fluid)/1000","v":1504.1321524301504}]
[null,64,{"$f":"[1]!PropsSI(\"S\",\"T\",$B118+273.15,\"Q\",0,Fluid)/1000","v":2.4850915402154867},{"$f":"[1]!PropsSI(\"S\",\"T\",$B118+273.15,\"Q\",1,Fluid)/1000","v":5.3758794249632285},{"$f":"[1]!PropsSI(\"D\",\"T\",$B118+273.15,\"Q\",0,Fluid)","v":537.84585962482777},{"$f":"[1]!PropsSI(\"D\",\"T\",$B118+273.15,\"Q\",1,Fluid)","v":22.696875235839567},1.8592687516411227E-3,4.4058928359483912E-2,{"$f":"[1]!PropsSI(\"P\",\"T\",$B118+273.15,\"Q\",1,Fluid)/1000","v":2880.0143620705494},{"$f":"[1]!PropsSI(\"U\",\"T\",$B118+273.15,\"Q\",0,Fluid)/1000","v":650.76642924653038},{"$f":"[1]!PropsSI(\"U\",\"T\",$B118+273.15,\"Q\",1,Fluid)/1000","v":1503.8599388441557}]
[null,65,{"$f":"[1]!PropsSI(\"S\",\"T\",$B119+273.15,\"Q\",0,Fluid)/1000","v":2.5003943972539426},{"$f":"[1]!PropsSI(\"S\",\"T\",$B119+273.15,\"Q\",1,Fluid)/1000","v":5.3654632834433729},{"$f":"[1]!PropsSI(\"D\",\"T\",$B119+273.15,\"Q\",0,Fluid)","v":535.96122692971016},{"$f":"[1]!PropsSI(\"D\",\"T\",$B119+273.15,\"Q\",1,Fluid)","v":23.280128688230405},1.8658066101694838E-3,4.2955089011409285E-2,{"$f":"[1]!PropsSI(\"P\",\"T\",$B119+273.15,\"Q\",1,Fluid)/1000","v":2949.1284385129829},{"$f":"[1]!PropsSI(\"U\",\"T\",$B119+273.15,\"Q\",0,Fluid)/1000","v":655.91438425537262},{"$f":"[1]!PropsSI(\"U\",\"T\",$B119+273.15,\"Q\",1,Fluid)/1000","v":1503.5598568727407}]
[null,66,{"$f":"[1]!PropsSI(\"S\",\"T\",$B120+273.15,\"Q\",0,Fluid)/1000","v":2.5157011806585428},{"$f":"[1]!PropsSI(\"S\",\"T\",$B120+273.15,\"Q\",1,Fluid)/1000","v":5.3550320300606042},{"$f":"[1]!PropsSI(\"D\",\"T\",$B120+273.15,\"Q\",0,Fluid)","v":534.06179646130647},{"$f":"[1]!PropsSI(\"D\",\"T\",$B120+273.15,\"Q\",1,Fluid)","v":23.87696002323262},1.8724424900376699E-3,4.1881378493199548E-2,{"$f":"[1]!PropsSI(\"P\",\"T\",$B120+273.15,\"Q\",1,Fluid)/1000","v":3019.4748969408879},{"$f":"[1]!PropsSI(\"U\",\"T\",$B120+273.15,\"Q\",0,Fluid)/1000","v":661.07822347105002},{"$f":"[1]!PropsSI(\"U\",\"T\",$B120+273.15,\"Q\",1,Fluid)/1000","v":1503.2313031309002}]
[null,67,{"$f":"[1]!PropsSI(\"S\",\"T\",$B121+273.15,\"Q\",0,Fluid)/1000","v":2.531013190424249},{"$f":"[1]!PropsSI(\"S\",\"T\",$B121+273.15,\"Q\",1,Fluid)/1000","v":5.3445833690159663},{"$f":"[1]!PropsSI(\"D\",\"T\",$B121+273.15,\"Q\",0,Fluid)","v":532.14718309242494},{"$f":"[1]!PropsSI(\"D\",\"T\",$B121+273.15,\"Q\",1,Fluid)","v":24.487725822006638},1.8791793544574997E-3,4.0836785223286015E-2,{"$f":"[1]!PropsSI(\"P\",\"T\",$B121+273.15,\"Q\",1,Fluid)/1000","v":3091.0680679180341},{"$f":"[1]!PropsSI(\"U\",\"T\",$B121+273.15,\"Q\",0,Fluid)/1000","v":666.25836522130385},{"$f":"[1]!PropsSI(\"U\",\"T\",$B121+273.15,\"Q\",1,Fluid)/1000","v":1502.8736499656068}]
[null,68,{"$f":"[1]!PropsSI(\"S\",\"T\",$B122+273.15,\"Q\",0,Fluid)/1000","v":2.5463317648294082},{"$f":"[1]!PropsSI(\"S\",\"T\",$B122+273.15,\"Q\",1,Fluid)/1000","v":5.3341149426159484},{"$f":"[1]!PropsSI(\"D\",\"T\",$B122+273.15,\"Q\",0,Fluid)","v":530.21698716520507},{"$f":"[1]!PropsSI(\"D\",\"T\",$B122+273.15,\"Q\",1,Fluid)","v":25.112796783109921},1.8860202977397627E-3,3.9820335768916373E-2,{"$f":"[1]!PropsSI(\"P\",\"T\",$B122+273.15,\"Q\",1,Fluid)/1000","v":3163.9223933650032},{"$f":"[1]!PropsSI(\"U\",\"T\",$B122+273.15,\"Q\",0,Fluid)/1000","v":671.45524326034842},{"$f":"[1]!PropsSI(\"U\",\"T\",$B122+273.15,\"Q\",1,Fluid)/1000","v":1502.4862441659959}]
[null,69,{"$f":"[1]!PropsSI(\"S\",\"T\",$B123+273.15,\"Q\",0,Fluid)/1000","v":2.5616582825061767},{"$f":"[1]!PropsSI(\"S\",\"T\",$B123+273.15,\"Q\",1,Fluid)/1000","v":5.3236243274005473},{"$f":"[1]!PropsSI(\"D\",\"T\",$B123+273.15,\"Q\",0,Fluid)","v":528.27079375409323},{"$f":"[1]!PropsSI(\"D\",\"T\",$B123+273.15,\"Q\",1,Fluid)","v":25.752558532215851},1.8929685529151055E-3,3.8831093180470719E-2,{"$f":"[1]!PropsSI(\"P\",\"T\",$B123+273.15,\"Q\",1,Fluid)/1000","v":3238.0524300498541},{"$f":"[1]!PropsSI(\"U\",\"T\",$B123+273.15,\"Q\",0,Fluid)/1000","v":676.66930753746306},{"$f":"[1]!PropsSI(\"U\",\"T\",$B123+273.15,\"Q\",1,Fluid)/1000","v":1502.0684055863294}]
[null,70,{"$f":"[1]!PropsSI(\"S\",\"T\",$B124+273.15,\"Q\",0,Fluid)/1000","v":2.5769941646568548},{"$f":"[1]!PropsSI(\"S\",\"T\",$B124+273.15,\"Q\",1,Fluid)/1000","v":5.3131090300134387},{"$f":"[1]!PropsSI(\"D\",\"T\",$B124+273.15,\"Q\",0,Fluid)","v":526.3081718789698},{"$f":"[1]!PropsSI(\"D\",\"T\",$B124+273.15,\"Q\",1,Fluid)","v":26.407412490658981},1.900027499914937E-3,3.7868155403477231E-2,{"$f":"[1]!PropsSI(\"P\",\"T\",$B124+273.15,\"Q\",1,Fluid)/1000","v":3313.4728532844365},{"$f":"[1]!PropsSI(\"U\",\"T\",$B124+273.15,\"Q\",0,Fluid)/1000","v":681.90102501904914},{"$f":"[1]!PropsSI(\"U\",\"T\",$B124+273.15,\"Q\",1,Fluid)/1000","v":1501.6194256742442}]
[null,71,{"$f":"[1]!PropsSI(\"S\",\"T\",$B125+273.15,\"Q\",0,Fluid)/1000","v":2.5923408774295358},{"$f":"[1]!PropsSI(\"S\",\"T\",$B125+273.15,\"Q\",1,Fluid)/1000","v":5.302566482791403},{"$f":"[1]!PropsSI(\"D\",\"T\",$B125+273.15,\"Q\",0,Fluid)","v":524.32867366406253},{"$f":"[1]!PropsSI(\"D\",\"T\",$B125+273.15,\"Q\",1,Fluid)","v":27.077776808043559},1.9072006743630812E-3,3.693065376412092E-2,{"$f":"[1]!PropsSI(\"P\",\"T\",$B125+273.15,\"Q\",1,Fluid)/1000","v":3390.1984608410426},{"$f":"[1]!PropsSI(\"U\",\"T\",$B125+273.15,\"Q\",0,Fluid)/1000","v":687.15088056902175},{"$f":"[1]!PropsSI(\"U\",\"T\",$B125+273.15,\"Q\",1,Fluid)/1000","v":1501.1385658960744}]
[null,72,{"$f":"[1]!PropsSI(\"S\",\"T\",$B126+273.15,\"Q\",0,Fluid)/1000","v":2.6076999344678113},{"$f":"[1]!PropsSI(\"S\",\"T\",$B126+273.15,\"Q\",1,Fluid)/1000","v":5.2919940390474798},{"$f":"[1]!PropsSI(\"D\",\"T\",$B126+273.15,\"Q\",0,Fluid)","v":522.33183343778489},{"$f":"[1]!PropsSI(\"D\",\"T\",$B126+273.15,\"Q\",1,Fluid)","v":27.764087364715337},1.9144917770345128E-3,3.6017751524254106E-2,{"$f":"[1]!PropsSI(\"P\",\"T\",$B126+273.15,\"Q\",1,Fluid)/1000","v":3468.2441771008266},{"$f":"[1]!PropsSI(\"U\",\"T\",$B126+273.15,\"Q\",0,Fluid)/1000","v":692.41937789287476},{"$f":"[1]!PropsSI(\"U\",\"T\",$B126+273.15,\"Q\",1,Fluid)/1000","v":1500.6250560500966}]
[null,73,{"$f":"[1]!PropsSI(\"S\",\"T\",$B127+273.15,\"Q\",0,Fluid)/1000","v":2.6230728996511186},{"$f":"[1]!PropsSI(\"S\",\"T\",$B127+273.15,\"Q\",1,Fluid)/1000","v":5.2813889680197157},{"$f":"[1]!PropsSI(\"D\",\"T\",$B127+273.15,\"Q\",0,Fluid)","v":520.3171667680873},{"$f":"[1]!PropsSI(\"D\",\"T\",$B127+273.15,\"Q\",1,Fluid)","v":28.466798850524309},1.9219046840438269E-3,3.5128642502126009E-2,{"$f":"[1]!PropsSI(\"P\",\"T\",$B127+273.15,\"Q\",1,Fluid)/1000","v":3547.6250574494302},{"$f":"[1]!PropsSI(\"U\",\"T\",$B127+273.15,\"Q\",0,Fluid)/1000","v":697.70704055143574},{"$f":"[1]!PropsSI(\"U\",\"T\",$B127+273.15,\"Q\",1,Fluid)/1000","v":1500.0780924576422}]
[null,74,{"$f":"[1]!PropsSI(\"S\",\"T\",$B128+273.15,\"Q\",0,Fluid)/1000","v":2.6384613900442333},{"$f":"[1]!PropsSI(\"S\",\"T\",$B128+273.15,\"Q\",1,Fluid)/1000","v":5.2707484494544392},{"$f":"[1]!PropsSI(\"D\",\"T\",$B128+273.15,\"Q\",0,Fluid)","v":518.28416942726915},{"$f":"[1]!PropsSI(\"D\",\"T\",$B128+273.15,\"Q\",1,Fluid)","v":29.186385927008921},1.9294434578332805E-3,3.4262549755247548E-2,{"$f":"[1]!PropsSI(\"P\",\"T\",$B128+273.15,\"Q\",1,Fluid)/1000","v":3628.3562929356294},{"$f":"[1]!PropsSI(\"U\",\"T\",$B128+273.15,\"Q\",0,Fluid)/1000","v":703.0144130510248},{"$f":"[1]!PropsSI(\"U\",\"T\",$B128+273.15,\"Q\",1,Fluid)/1000","v":1499.4968360208998}]
[null,75,{"$f":"[1]!PropsSI(\"S\",\"T\",$B129+273.15,\"Q\",0,Fluid)/1000","v":2.6538670790767678},{"$f":"[1]!PropsSI(\"S\",\"T\",$B129+273.15,\"Q\",1,Fluid)/1000","v":5.2600695677891762},{"$f":"[1]!PropsSI(\"D\",\"T\",$B129+273.15,\"Q\",0,Fluid)","v":516.23231627947735},{"$f":"[1]!PropsSI(\"D\",\"T\",$B129+273.15,\"Q\",1,Fluid)","v":29.923344480946469},1.9371123590384081E-3,3.3418724321966908E-2,{"$f":"[1]!PropsSI(\"P\",\"T\",$B129+273.15,\"Q\",1,Fluid)/1000","v":3710.4532152091388},{"$f":"[1]!PropsSI(\"U\",\"T\",$B129+273.15,\"Q\",0,Fluid)/1000","v":708.34206201756228},{"$f":"[1]!PropsSI(\"U\",\"T\",$B129+273.15,\"Q\",1,Fluid)/1000","v":1498.880410134971}]
[null,76,{"$f":"[1]!PropsSI(\"S\",\"T\",$B130+273.15,\"Q\",0,Fluid)/1000","v":2.6692916999759655},{"$f":"[1]!PropsSI(\"S\",\"T\",$B130+273.15,\"Q\",1,Fluid)/1000","v":5.2493493058967928},{"$f":"[1]!PropsSI(\"D\",\"T\",$B130+273.15,\"Q\",0,Fluid)","v":514.16106008328688},{"$f":"[1]!PropsSI(\"D\",\"T\",$B130+273.15,\"Q\",1,Fluid)","v":30.678192978104789},1.9449158593185063E-3,3.259644401851524E-2,{"$f":"[1]!PropsSI(\"P\",\"T\",$B130+273.15,\"Q\",1,Fluid)/1000","v":3793.9313017592804},{"$f":"[1]!PropsSI(\"U\",\"T\",$B130+273.15,\"Q\",0,Fluid)/1000","v":713.69057746308533},{"$f":"[1]!PropsSI(\"U\",\"T\",$B130+273.15,\"Q\",1,Fluid)/1000","v":1498.2278984404097}]
[null,77,{"$f":"[1]!PropsSI(\"S\",\"T\",$B131+273.15,\"Q\",0,Fluid)/1000","v":2.6847370494761909},{"$f":"[1]!PropsSI(\"S\",\"T\",$B131+273.15,\"Q\",1,Fluid)/1000","v":5.2385845383465011},{"$f":"[1]!PropsSI(\"D\",\"T\",$B131+273.15,\"Q\",0,Fluid)","v":512.06983020163796},{"$f":"[1]!PropsSI(\"D\",\"T\",$B131+273.15,\"Q\",1,Fluid)","v":31.451473927121281},1.9528586552467456E-3,3.1795012288364601E-2,{"$f":"[1]!PropsSI(\"P\",\"T\",$B131+273.15,\"Q\",1,Fluid)/1000","v":3878.8061816446116},{"$f":"[1]!PropsSI(\"U\",\"T\",$B131+273.15,\"Q\",0,Fluid)/1000","v":719.06057415318878},{"$f":"[1]!PropsSI(\"U\",\"T\",$B131+273.15,\"Q\",1,Fluid)/1000","v":1497.5383424005954}]
[null,78,{"$f":"[1]!PropsSI(\"S\",\"T\",$B132+273.15,\"Q\",0,Fluid)/1000","v":2.7002049918549575},{"$f":"[1]!PropsSI(\"S\",\"T\",$B132+273.15,\"Q\",1,Fluid)/1000","v":5.2277720241408545},{"$f":"[1]!PropsSI(\"D\",\"T\",$B132+273.15,\"Q\",0,Fluid)","v":509.95803120392515},{"$f":"[1]!PropsSI(\"D\",\"T\",$B132+273.15,\"Q\",1,Fluid)","v":32.24375546424416},1.9609456833911765E-3,3.1013757101244703E-2,{"$f":"[1]!PropsSI(\"P\",\"T\",$B132+273.15,\"Q\",1,Fluid)/1000","v":3965.0936405851758},{"$f":"[1]!PropsSI(\"U\",\"T\",$B132+273.15,\"Q\",0,Fluid)/1000","v":724.45269309313994},{"$f":"[1]!PropsSI(\"U\",\"T\",$B132+273.15,\"Q\",1,Fluid)/1000","v":1496.8107386881015}]
[null,79,{"$f":"[1]!PropsSI(\"S\",\"T\",$B133+273.15,\"Q\",0,Fluid)/1000","v":2.7156974632729187},{"$f":"[1]!PropsSI(\"S\",\"T\",$B133+273.15,\"Q\",1,Fluid)/1000","v":5.2169083988569911},{"$f":"[1]!PropsSI(\"D\",\"T\",$B133+273.15,\"Q\",0,Fluid)","v":507.82504136483743},{"$f":"[1]!PropsSI(\"D\",\"T\",$B133+273.15,\"Q\",1,Fluid)","v":33.055633072053539},{"$f":"IF(E133<>0,1/E133,\"\")","v":1.9691821366516044E-3},{"$f":"IF(F133<>0,1/F133,\"\")","v":3.0252029898209305E-2},{"$f":"[1]!PropsSI(\"P\",\"T\",$B133+273.15,\"Q\",1,Fluid)/1000","v":4052.8096286698988},{"$f":"[1]!PropsSI(\"U\",\"T\",$B133+273.15,\"Q\",0,Fluid)/1000","v":729.86760312540423},{"$f":"[1]!PropsSI(\"U\",\"T\",$B133+273.15,\"Q\",1,Fluid)/1000","v":1496.0440363575417}]
[null,80,{"$f":"[1]!PropsSI(\"S\",\"T\",$B134+273.15,\"Q\",0,Fluid)/1000","v":2.731216476541046},{"$f":"[1]!PropsSI(\"S\",\"T\",$B134+273.15,\"Q\",1,Fluid)/1000","v":5.2059901661553516},{"$f":"[1]!PropsSI(\"D\",\"T\",$B134+273.15,\"Q\",0,Fluid)","v":505.67021102414941},{"$f":"[1]!PropsSI(\"D\",\"T\",$B134+273.15,\"Q\",1,Fluid)","v":33.887731445063977},1.97757348208167E-3,2.9509204581047815E-2,{"$f":"[1]!PropsSI(\"P\",\"T\",$B134+273.15,\"Q\",1,Fluid)/1000","v":4141.9702658247697},{"$f":"[1]!PropsSI(\"U\",\"T\",$B134+273.15,\"Q\",0,Fluid)/1000","v":735.30600268184082},{"$f":"[1]!PropsSI(\"U\",\"T\",$B134+273.15,\"Q\",1,Fluid)/1000","v":1495.2371337876534}]
[null,81,{"$f":"[1]!PropsSI(\"S\",\"T\",$B135+273.15,\"Q\",0,Fluid)/1000","v":2.7467641262852913},{"$f":"[1]!PropsSI(\"S\",\"T\",$B135+273.15,\"Q\",1,Fluid)/1000","v":5.1950136885701568},{"$f":"[1]!PropsSI(\"D\",\"T\",$B135+273.15,\"Q\",0,Fluid)","v":503.49286081352773},{"$f":"[1]!PropsSI(\"D\",\"T\",$B135+273.15,\"Q\",1,Fluid)","v":34.740706518572878},1.9861254802783735E-3,2.8784676542642728E-2,{"$f":"[1]!PropsSI(\"P\",\"T\",$B135+273.15,\"Q\",1,Fluid)/1000","v":4232.5918492820192},{"$f":"[1]!PropsSI(\"U\",\"T\",$B135+273.15,\"Q\",0,Fluid)/1000","v":740.76862168105276},{"$f":"[1]!PropsSI(\"U\",\"T\",$B135+273.15,\"Q\",1,Fluid)/1000","v":1494.38887536517}]
[null,82,{"$f":"[1]!PropsSI(\"S\",\"T\",$B136+273.15,\"Q\",0,Fluid)/1000","v":2.762342594592281},{"$f":"[1]!PropsSI(\"S\",\"T\",$B136+273.15,\"Q\",1,Fluid)/1000","v":5.1839751775122025},{"$f":"[1]!PropsSI(\"D\",\"T\",$B136+273.15,\"Q\",0,Fluid)","v":501.29227972498092},{"$f":"[1]!PropsSI(\"D\",\"T\",$B136+273.15,\"Q\",1,Fluid)","v":35.615247678081573},1.9948442065547472E-3,2.8077861736040165E-2,{"$f":"[1]!PropsSI(\"P\",\"T\",$B136+273.15,\"Q\",1,Fluid)/1000","v":4324.6908611203671},{"$f":"[1]!PropsSI(\"U\",\"T\",$B136+273.15,\"Q\",0,Fluid)/1000","v":746.2562236005931},{"$f":"[1]!PropsSI(\"U\",\"T\",$B136+273.15,\"Q\",1,Fluid)/1000","v":1493.4980478844691}]
[null,83,{"$f":"[1]!PropsSI(\"S\",\"T\",$B137+273.15,\"Q\",0,Fluid)/1000","v":2.7779541571861026},{"$f":"[1]!PropsSI(\"S\",\"T\",$B137+273.15,\"Q\",1,Fluid)/1000","v":5.1728706823960584},{"$f":"[1]!PropsSI(\"D\",\"T\",$B137+273.15,\"Q\",0,Fluid)","v":499.06772300442162},{"$f":"[1]!PropsSI(\"D\",\"T\",$B137+273.15,\"Q\",1,Fluid)","v":36.512080169265246},2.0037360740941769E-3,2.7388195779701686E-2,{"$f":"[1]!PropsSI(\"P\",\"T\",$B137+273.15,\"Q\",1,Fluid)/1000","v":4418.2839762962667},{"$f":"[1]!PropsSI(\"U\",\"T\",$B137+273.15,\"Q\",0,Fluid)/1000","v":751.76960774232111},{"$f":"[1]!PropsSI(\"U\",\"T\",$B137+273.15,\"Q\",1,Fluid)/1000","v":1492.5633766319636}]
[null,84,{"$f":"[1]!PropsSI(\"S\",\"T\",$B138+273.15,\"Q\",0,Fluid)/1000","v":2.7936011902011182},{"$f":"[1]!PropsSI(\"S\",\"T\",$B138+273.15,\"Q\",1,Fluid)/1000","v":5.161696078793681},{"$f":"[1]!PropsSI(\"D\",\"T\",$B138+273.15,\"Q\",0,Fluid)","v":496.81840984932569},{"$f":"[1]!PropsSI(\"D\",\"T\",$B138+273.15,\"Q\",1,Fluid)","v":37.431967731056211},2.0128078593208299E-3,2.6715133096525116E-2,{"$f":"[1]!PropsSI(\"P\",\"T\",$B138+273.15,\"Q\",1,Fluid)/1000","v":4513.388071203819},{"$f":"[1]!PropsSI(\"U\",\"T\",$B138+273.15,\"Q\",0,Fluid)/1000","v":757.30961171449019},{"$f":"[1]!PropsSI(\"U\",\"T\",$B138+273.15,\"Q\",1,Fluid)/1000","v":1491.5835211203635}]
[null,85,{"$f":"[1]!PropsSI(\"S\",\"T\",$B139+273.15,\"Q\",0,Fluid)/1000","v":2.8092861776253701},{"$f":"[1]!PropsSI(\"S\",\"T\",$B139+273.15,\"Q\",1,Fluid)/1000","v":5.1504470555030215},{"$f":"[1]!PropsSI(\"D\",\"T\",$B139+273.15,\"Q\",0,Fluid)","v":494.54352088633499},{"$f":"[1]!PropsSI(\"D\",\"T\",$B139+273.15,\"Q\",1,Fluid)","v":38.375715477478018},2.0220667297546867E-3,2.605814608425688E-2,{"$f":"[1]!PropsSI(\"P\",\"T\",$B139+273.15,\"Q\",1,Fluid)/1000","v":4610.0202328068035},{"$f":"[1]!PropsSI(\"U\",\"T\",$B139+273.15,\"Q\",0,Fluid)/1000","v":762.87711415763511},{"$f":"[1]!PropsSI(\"U\",\"T\",$B139+273.15,\"Q\",1,Fluid)/1000","v":1490.5570704332436}]
[null,86,{"$f":"[1]!PropsSI(\"S\",\"T\",$B140+273.15,\"Q\",0,Fluid)/1000","v":2.8250117195129691},{"$f":"[1]!PropsSI(\"S\",\"T\",$B140+273.15,\"Q\",1,Fluid)/1000","v":5.139119100406023},{"$f":"[1]!PropsSI(\"D\",\"T\",$B140+273.15,\"Q\",0,Fluid)","v":492.24219539740437},{"$f":"[1]!PropsSI(\"D\",\"T\",$B140+273.15,\"Q\",1,Fluid)","v":39.344173057361743},2.0315202746742688E-3,2.5416724314984391E-2,{"$f":"[1]!PropsSI(\"P\",\"T\",$B140+273.15,\"Q\",1,Fluid)/1000","v":4708.1977678147259},{"$f":"[1]!PropsSI(\"U\",\"T\",$B140+273.15,\"Q\",0,Fluid)/1000","v":768.47303774988222},{"$f":"[1]!PropsSI(\"U\",\"T\",$B140+273.15,\"Q\",1,Fluid)/1000","v":1489.4825381351427}]
[null,87,{"$f":"[1]!PropsSI(\"S\",\"T\",$B141+273.15,\"Q\",0,Fluid)/1000","v":2.8407805410056874},{"$f":"[1]!PropsSI(\"S\",\"T\",$B141+273.15,\"Q\",1,Fluid)/1000","v":5.1277074849643718},{"$f":"[1]!PropsSI(\"D\",\"T\",$B141+273.15,\"Q\",0,Fluid)","v":489.9135282792077},{"$f":"[1]!PropsSI(\"D\",\"T\",$B141+273.15,\"Q\",1,Fluid)","v":40.33823812562121},2.041176538872974E-3,2.4790373761139572E-2,{"$f":"[1]!PropsSI(\"P\",\"T\",$B141+273.15,\"Q\",1,Fluid)/1000","v":4807.9382147220922},{"$f":"[1]!PropsSI(\"U\",\"T\",$B141+273.15,\"Q\",0,Fluid)/1000","v":774.0983525069247},{"$f":"[1]!PropsSI(\"U\",\"T\",$B141+273.15,\"Q\",1,Fluid)/1000","v":1488.3583566944599}]
[null,88,{"$f":"[1]!PropsSI(\"S\",\"T\",$B142+273.15,\"Q\",0,Fluid)/1000","v":2.8565955023996548},{"$f":"[1]!PropsSI(\"S\",\"T\",$B142+273.15,\"Q\",1,Fluid)/1000","v":5.1162072472044535},{"$f":"[1]!PropsSI(\"D\",\"T\",$B142+273.15,\"Q\",0,Fluid)","v":487.55656666388029},{"$f":"[1]!PropsSI(\"D\",\"T\",$B142+273.15,\"Q\",1,Fluid)","v":41.358860163378843},2.0510440600616429E-3,2.4178616046228684E-2,{"$f":"[1]!PropsSI(\"P\",\"T\",$B142+273.15,\"Q\",1,Fluid)/1000","v":4909.2593530541126},{"$f":"[1]!PropsSI(\"U\",\"T\",$B142+273.15,\"Q\",0,Fluid)/1000","v":779.75407946113296},{"$f":"[1]!PropsSI(\"U\",\"T\",$B142+273.15,\"Q\",1,Fluid)/1000","v":1487.182871363919}]
[null,89,{"$f":"[1]!PropsSI(\"S\",\"T\",$B143+273.15,\"Q\",0,Fluid)/1000","v":2.8724596102543005},{"$f":"[1]!PropsSI(\"S\",\"T\",$B143+273.15,\"Q\",1,Fluid)/1000","v":5.1046131729780413},{"$f":"[1]!PropsSI(\"D\",\"T\",$B143+273.15,\"Q\",0,Fluid)","v":485.1703061967338},{"$f":"[1]!PropsSI(\"D\",\"T\",$B143+273.15,\"Q\",1,Fluid)","v":42.407044691934658},2.0611319102338175E-3,2.3580987717123063E-2,{"$f":"[1]!PropsSI(\"P\",\"T\",$B143+273.15,\"Q\",1,Fluid)/1000","v":5012.179216350366},{"$f":"[1]!PropsSI(\"U\",\"T\",$B143+273.15,\"Q\",0,Fluid)/1000","v":785.44129472025452},{"$f":"[1]!PropsSI(\"U\",\"T\",$B143+273.15,\"Q\",1,Fluid)/1000","v":1485.95433344651}]
[null,90,{"$f":"[1]!PropsSI(\"S\",\"T\",$B144+273.15,\"Q\",0,Fluid)/1000","v":2.8883760297874868},{"$f":"[1]!PropsSI(\"S\",\"T\",$B144+273.15,\"Q\",1,Fluid)/1000","v":5.0929197752967275},{"$f":"[1]!PropsSI(\"D\",\"T\",$B144+273.15,\"Q\",0,Fluid)","v":482.75368689506803},{"$f":"[1]!PropsSI(\"D\",\"T\",$B144+273.15,\"Q\",1,Fluid)","v":43.483857930184413},2.0714497416512976E-3,2.299703953604006E-2,{"$f":"[1]!PropsSI(\"P\",\"T\",$B144+273.15,\"Q\",1,Fluid)/1000","v":5116.7161047474156},{"$f":"[1]!PropsSI(\"U\",\"T\",$B144+273.15,\"Q\",0,Fluid)/1000","v":791.16113399348444},{"$f":"[1]!PropsSI(\"U\",\"T\",$B144+273.15,\"Q\",1,Fluid)/1000","v":1484.6708928728769}]
[null,91,{"$f":"[1]!PropsSI(\"S\",\"T\",$B145+273.15,\"Q\",0,Fluid)/1000","v":2.9043480987073624},{"$f":"[1]!PropsSI(\"S\",\"T\",$B145+273.15,\"Q\",1,Fluid)/1000","v":5.081121271479855},{"$f":"[1]!PropsSI(\"D\",\"T\",$B145+273.15,\"Q\",0,Fluid)","v":480.30558853781162},{"$f":"[1]!PropsSI(\"D\",\"T\",$B145+273.15,\"Q\",1,Fluid)","v":44.590431954165979},2.0820078380605306E-3,2.242633578943324E-2,{"$f":"[1]!PropsSI(\"P\",\"T\",$B145+273.15,\"Q\",1,Fluid)/1000","v":5222.8885987256263},{"$f":"[1]!PropsSI(\"U\",\"T\",$B145+273.15,\"Q\",0,Fluid)/1000","v":796.91479764004623},{"$f":"[1]!PropsSI(\"U\",\"T\",$B145+273.15,\"Q\",1,Fluid)/1000","v":1483.3305899991894}]
[null,92,{"$f":"[1]!PropsSI(\"S\",\"T\",$B146+273.15,\"Q\",0,Fluid)/1000","v":2.9203793426984186},{"$f":"[1]!PropsSI(\"S\",\"T\",$B146+273.15,\"Q\",1,Fluid)/1000","v":5.0692115578226824},{"$f":"[1]!PropsSI(\"D\",\"T\",$B146+273.15,\"Q\",0,Fluid)","v":477.82482551521855},{"$f":"[1]!PropsSI(\"D\",\"T\",$B146+273.15,\"Q\",1,Fluid)","v":45.727970426328667},2.0928171719034098E-3,2.186845361114546E-2,{"$f":"[1]!PropsSI(\"P\",\"T\",$B146+273.15,\"Q\",1,Fluid)/1000","v":5330.7155738860056},{"$f":"[1]!PropsSI(\"U\",\"T\",$B146+273.15,\"Q\",0,Fluid)/1000","v":802.70355631943937},{"$f":"[1]!PropsSI(\"U\",\"T\",$B146+273.15,\"Q\",1,Fluid)/1000","v":1481.9313465218891}]
[null,93,{"$f":"[1]!PropsSI(\"S\",\"T\",$B147+273.15,\"Q\",0,Fluid)/1000","v":2.9364734928122016},{"$f":"[1]!PropsSI(\"S\",\"T\",$B147+273.15,\"Q\",1,Fluid)/1000","v":5.0571841814428673},{"$f":"[1]!PropsSI(\"D\",\"T\",$B147+273.15,\"Q\",0,Fluid)","v":475.31014105683568},{"$f":"[1]!PropsSI(\"D\",\"T\",$B147+273.15,\"Q\",1,Fluid)","v":46.897754973215747},2.1038894684143167E-3,2.1322982316981275E-2,{"$f":"[1]!PropsSI(\"P\",\"T\",$B147+273.15,\"Q\",1,Fluid)/1000","v":5440.2162168541081},{"$f":"[1]!PropsSI(\"U\",\"T\",$B147+273.15,\"Q\",0,Fluid)/1000","v":808.52875733455357},{"$f":"[1]!PropsSI(\"U\",\"T\",$B147+273.15,\"Q\",1,Fluid)/1000","v":1480.470955388673}]
[null,94,{"$f":"[1]!PropsSI(\"S\",\"T\",$B148+273.15,\"Q\",0,Fluid)/1000","v":2.9526345050581089},{"$f":"[1]!PropsSI(\"S\",\"T\",$B148+273.15,\"Q\",1,Fluid)/1000","v":5.0450323089051121},{"$f":"[1]!PropsSI(\"D\",\"T\",$B148+273.15,\"Q\",0,Fluid)","v":472.76020074108391},{"$f":"[1]!PropsSI(\"D\",\"T\",$B148+273.15,\"Q\",1,Fluid)","v":48.101152303486685},2.1152372776566887E-3,2.0789522747618531E-2,{"$f":"[1]!PropsSI(\"P\",\"T\",$B148+273.15,\"Q\",1,Fluid)/1000","v":5551.410042419564},{"$f":"[1]!PropsSI(\"U\",\"T\",$B148+273.15,\"Q\",0,Fluid)/1000","v":814.39183177529742},{"$f":"[1]!PropsSI(\"U\",\"T\",$B148+273.15,\"Q\",1,Fluid)/1000","v":1478.9470695647681}]
[null,95,{"$f":"[1]!PropsSI(\"S\",\"T\",$B149+273.15,\"Q\",0,Fluid)/1000","v":2.9688665825441172},{"$f":"[1]!PropsSI(\"S\",\"T\",$B149+273.15,\"Q\",1,Fluid)/1000","v":5.0327486911549135},{"$f":"[1]!PropsSI(\"D\",\"T\",$B149+273.15,\"Q\",0,Fluid)","v":470.17358517184562},{"$f":"[1]!PropsSI(\"D\",\"T\",$B149+273.15,\"Q\",1,Fluid)","v":49.339622174038524},2.1268740557479552E-3,2.0267686616501475E-2,{"$f":"[1]!PropsSI(\"P\",\"T\",$B149+273.15,\"Q\",1,Fluid)/1000","v":5664.3169120319708},{"$f":"[1]!PropsSI(\"U\",\"T\",$B149+273.15,\"Q\",0,Fluid)/1000","v":820.29430259022172},{"$f":"[1]!PropsSI(\"U\",\"T\",$B149+273.15,\"Q\",1,Fluid)/1000","v":1477.3571894894078}]
[null,96,{"$f":"[1]!PropsSI(\"S\",\"T\",$B150+273.15,\"Q\",0,Fluid)/1000","v":2.9851742005833128},{"$f":"[1]!PropsSI(\"S\",\"T\",$B150+273.15,\"Q\",1,Fluid)/1000","v":5.0203256242088123},{"$f":"[1]!PropsSI(\"D\",\"T\",$B150+273.15,\"Q\",0,Fluid)","v":467.54878168562004},{"$f":"[1]!PropsSI(\"D\",\"T\",$B150+273.15,\"Q\",1,Fluid)","v":50.61472633108712},2.1388142567600578E-3,1.9757095858993292E-2,{"$f":"[1]!PropsSI(\"P\",\"T\",$B150+273.15,\"Q\",1,Fluid)/1000","v":5778.9570537882619},{"$f":"[1]!PropsSI(\"U\",\"T\",$B150+273.15,\"Q\",0,Fluid)/1000","v":826.2377937377039},{"$f":"[1]!PropsSI(\"U\",\"T\",$B150+273.15,\"Q\",1,Fluid)/1000","v":1475.698649028204}]
[null,97,{"$f":"[1]!PropsSI(\"S\",\"T\",$B151+273.15,\"Q\",0,Fluid)/1000","v":3.0015621352625668},{"$f":"[1]!PropsSI(\"S\",\"T\",$B151+273.15,\"Q\",1,Fluid)/1000","v":5.0077549049473218},{"$f":"[1]!PropsSI(\"D\",\"T\",$B151+273.15,\"Q\",0,Fluid)","v":464.88417492620442},{"$f":"[1]!PropsSI(\"D\",\"T\",$B151+273.15,\"Q\",1,Fluid)","v":51.928138576198513},2.1510734370743848E-3,1.9257381978609076E-2,{"$f":"[1]!PropsSI(\"P\",\"T\",$B151+273.15,\"Q\",1,Fluid)/1000","v":5895.3510840643921},{"$f":"[1]!PropsSI(\"U\",\"T\",$B151+273.15,\"Q\",0,Fluid)/1000","v":832.22404059760004},{"$f":"[1]!PropsSI(\"U\",\"T\",$B151+273.15,\"Q\",1,Fluid)/1000","v":1473.9685996917362}]
[null,98,{"$f":"[1]!PropsSI(\"S\",\"T\",$B152+273.15,\"Q\",0,Fluid)/1000","v":3.0180354960680309},{"$f":"[1]!PropsSI(\"S\",\"T\",$B152+273.15,\"Q\",1,Fluid)/1000","v":4.9950277812333974},{"$f":"[1]!PropsSI(\"D\",\"T\",$B152+273.15,\"Q\",0,Fluid)","v":462.17803609126946},{"$f":"[1]!PropsSI(\"D\",\"T\",$B152+273.15,\"Q\",1,Fluid)","v":53.281656135402748},2.1636683743286389E-3,1.8768185385580661E-2,{"$f":"[1]!PropsSI(\"P\",\"T\",$B152+273.15,\"Q\",1,Fluid)/1000","v":6013.5200309610791},{"$f":"[1]!PropsSI(\"U\",\"T\",$B152+273.15,\"Q\",0,Fluid)/1000","v":838.25490186014088},{"$f":"[1]!PropsSI(\"U\",\"T\",$B152+273.15,\"Q\",1,Fluid)/1000","v":1472.1639928476682}]
[null,99,{"$f":"[1]!PropsSI(\"S\",\"T\",$B153+273.15,\"Q\",0,Fluid)/1000","v":3.0345997632834636},{"$f":"[1]!PropsSI(\"S\",\"T\",$B153+273.15,\"Q\",1,Fluid)/1000","v":4.9821348954284987},{"$f":"[1]!PropsSI(\"D\",\"T\",$B153+273.15,\"Q\",0,Fluid)","v":459.42851061505809},{"$f":"[1]!PropsSI(\"D\",\"T\",$B153+273.15,\"Q\",1,Fluid)","v":54.677212543962781},2.1766172035367461E-3,1.8289154722288703E-2,{"$f":"[1]!PropsSI(\"P\",\"T\",$B153+273.15,\"Q\",1,Fluid)/1000","v":6133.485359756447},{"$f":"[1]!PropsSI(\"U\",\"T\",$B153+273.15,\"Q\",0,Fluid)/1000","v":844.33237315303813},{"$f":"[1]!PropsSI(\"U\",\"T\",$B153+273.15,\"Q\",1,Fluid)/1000","v":1470.2815596010209}]
[null,100,{"$f":"[1]!PropsSI(\"S\",\"T\",$B154+273.15,\"Q\",0,Fluid)/1000","v":3.0512608310272156},{"$f":"[1]!PropsSI(\"S\",\"T\",$B154+273.15,\"Q\",1,Fluid)/1000","v":4.9690662201919817},{"$f":"[1]!PropsSI(\"D\",\"T\",$B154+273.15,\"Q\",0,Fluid)","v":456.63360400176333},{"$f":"[1]!PropsSI(\"D\",\"T\",$B154+273.15,\"Q\",1,Fluid)","v":56.116892301769894},2.1899395735144765E-3,1.7819946169194058E-2,{"$f":"[1]!PropsSI(\"P\",\"T\",$B154+273.15,\"Q\",1,Fluid)/1000","v":6255.2690005821751},{"$f":"[1]!PropsSI(\"U\",\"T\",$B154+273.15,\"Q\",0,Fluid)/1000","v":850.45860272238167},{"$f":"[1]!PropsSI(\"U\",\"T\",$B154+273.15,\"Q\",1,Fluid)/1000","v":1468.3177879523641}]
[null,101,{"$f":"[1]!PropsSI(\"S\",\"T\",$B155+273.15,\"Q\",0,Fluid)/1000","v":3.0680250569803991},{"$f":"[1]!PropsSI(\"S\",\"T\",$B155+273.15,\"Q\",1,Fluid)/1000","v":4.955810985219359},{"$f":"[1]!PropsSI(\"D\",\"T\",$B155+273.15,\"Q\",0,Fluid)","v":453.79116546233405},{"$f":"[1]!PropsSI(\"D\",\"T\",$B155+273.15,\"Q\",1,Fluid)","v":57.602947606800974},2.2036568274333293E-3,1.7360222723774878E-2,{"$f":"[1]!PropsSI(\"P\",\"T\",$B155+273.15,\"Q\",1,Fluid)/1000","v":6378.8933785696254},{"$f":"[1]!PropsSI(\"U\",\"T\",$B155+273.15,\"Q\",0,Fluid)/1000","v":856.6359095508526},{"$f":"[1]!PropsSI(\"U\",\"T\",$B155+273.15,\"Q\",1,Fluid)/1000","v":1466.2688967634333}]
[null,102,{"$f":"[1]!PropsSI(\"S\",\"T\",$B156+273.15,\"Q\",0,Fluid)/1000","v":3.0848993200924943},{"$f":"[1]!PropsSI(\"S\",\"T\",$B156+273.15,\"Q\",1,Fluid)/1000","v":4.9423575932870989},{"$f":"[1]!PropsSI(\"D\",\"T\",$B156+273.15,\"Q\",0,Fluid)","v":450.8988689300088},{"$f":"[1]!PropsSI(\"D\",\"T\",$B156+273.15,\"Q\",1,Fluid)","v":59.137817539489419},2.2177922121938741E-3,1.6909653443538859E-2,{"$f":"[1]!PropsSI(\"P\",\"T\",$B156+273.15,\"Q\",1,Fluid)/1000","v":6504.3814467454331},{"$f":"[1]!PropsSI(\"U\",\"T\",$B156+273.15,\"Q\",0,Fluid)/1000","v":862.86680438189978},{"$f":"[1]!PropsSI(\"U\",\"T\",$B156+273.15,\"Q\",1,Fluid)/1000","v":1464.1308059595374}]